BEGIN:VCALENDAR
VERSION:2.0
PRODID:-//Elderplan - ECPv6.15.20//NONSGML v1.0//EN
CALSCALE:GREGORIAN
METHOD:PUBLISH
X-WR-CALNAME:Elderplan
X-ORIGINAL-URL:https://www.elderplan.org
X-WR-CALDESC:Events for Elderplan
REFRESH-INTERVAL;VALUE=DURATION:PT1H
X-Robots-Tag:noindex
X-PUBLISHED-TTL:PT1H
BEGIN:VTIMEZONE
TZID:America/New_York
BEGIN:DAYLIGHT
TZOFFSETFROM:-0500
TZOFFSETTO:-0400
TZNAME:EDT
DTSTART:20250309T070000
END:DAYLIGHT
BEGIN:STANDARD
TZOFFSETFROM:-0400
TZOFFSETTO:-0500
TZNAME:EST
DTSTART:20251102T060000
END:STANDARD
BEGIN:DAYLIGHT
TZOFFSETFROM:-0500
TZOFFSETTO:-0400
TZNAME:EDT
DTSTART:20260308T070000
END:DAYLIGHT
BEGIN:STANDARD
TZOFFSETFROM:-0400
TZOFFSETTO:-0500
TZNAME:EST
DTSTART:20261101T060000
END:STANDARD
BEGIN:DAYLIGHT
TZOFFSETFROM:-0500
TZOFFSETTO:-0400
TZNAME:EDT
DTSTART:20270314T070000
END:DAYLIGHT
BEGIN:STANDARD
TZOFFSETFROM:-0400
TZOFFSETTO:-0500
TZNAME:EST
DTSTART:20271107T060000
END:STANDARD
END:VTIMEZONE
BEGIN:VEVENT
DTSTART;TZID=America/New_York:20260421T110000
DTEND;TZID=America/New_York:20260421T140000
DTSTAMP:20260419T151338
CREATED:20260323T015206Z
LAST-MODIFIED:20260323T015206Z
UID:47490-1776769200-1776780000@www.elderplan.org
SUMMARY:Spring Community Celebration
DESCRIPTION:
URL:https://www.elderplan.org/event/spring-community-celebration/
LOCATION:Washington Heights Community Office
CATEGORIES:Washington Heights
END:VEVENT
BEGIN:VEVENT
DTSTART;TZID=America/New_York:20260428T093000
DTEND;TZID=America/New_York:20260428T160000
DTSTAMP:20260419T151338
CREATED:20260323T015252Z
LAST-MODIFIED:20260323T015252Z
UID:47492-1777368600-1777392000@www.elderplan.org
SUMMARY:Food Stamps & SNAP Benefits Assistance
DESCRIPTION:
URL:https://www.elderplan.org/event/food-stamps-snap-benefits-assistance/
LOCATION:Washington Heights Community Office
CATEGORIES:Washington Heights
END:VEVENT
BEGIN:VEVENT
DTSTART;TZID=America/New_York:20260506T130000
DTEND;TZID=America/New_York:20260506T140000
DTSTAMP:20260419T151338
CREATED:20260323T015418Z
LAST-MODIFIED:20260323T015418Z
UID:47494-1778072400-1778076000@www.elderplan.org
SUMMARY:Games\, Arts & Music
DESCRIPTION:
URL:https://www.elderplan.org/event/games-arts-music-2/
LOCATION:Washington Heights Community Office
CATEGORIES:Washington Heights
END:VEVENT
BEGIN:VEVENT
DTSTART;TZID=America/New_York:20260519T130000
DTEND;TZID=America/New_York:20260519T140000
DTSTAMP:20260419T151338
CREATED:20260323T015507Z
LAST-MODIFIED:20260323T015507Z
UID:47496-1779195600-1779199200@www.elderplan.org
SUMMARY:Tech Help\, Coffee & Chat
DESCRIPTION:
URL:https://www.elderplan.org/event/tech-help-coffee-chat-2/
LOCATION:Washington Heights Community Office
CATEGORIES:Washington Heights
END:VEVENT
BEGIN:VEVENT
DTSTART;TZID=America/New_York:20260520T100000
DTEND;TZID=America/New_York:20260520T160000
DTSTAMP:20260419T151338
CREATED:20260323T015552Z
LAST-MODIFIED:20260323T015552Z
UID:47498-1779271200-1779292800@www.elderplan.org
SUMMARY:Caregivers Appreciation Celebration
DESCRIPTION:
URL:https://www.elderplan.org/event/caregivers-appreciation-celebration/
LOCATION:Washington Heights Community Office
CATEGORIES:Washington Heights
END:VEVENT
BEGIN:VEVENT
DTSTART;TZID=America/New_York:20260527T093000
DTEND;TZID=America/New_York:20260527T160000
DTSTAMP:20260419T151338
CREATED:20260323T015655Z
LAST-MODIFIED:20260323T015655Z
UID:47500-1779874200-1779897600@www.elderplan.org
SUMMARY:Food Stamps & SNAP Benefits Assistance
DESCRIPTION:
URL:https://www.elderplan.org/event/food-stamps-snap-benefits-assistance-2/
LOCATION:Washington Heights Community Office
CATEGORIES:Washington Heights
END:VEVENT
BEGIN:VEVENT
DTSTART;TZID=America/New_York:20260603T130000
DTEND;TZID=America/New_York:20260603T140000
DTSTAMP:20260419T151338
CREATED:20260323T015753Z
LAST-MODIFIED:20260323T015753Z
UID:47502-1780491600-1780495200@www.elderplan.org
SUMMARY:Games\, Arts & Music
DESCRIPTION:
URL:https://www.elderplan.org/event/games-arts-music-3/
LOCATION:Washington Heights Community Office
CATEGORIES:Washington Heights
END:VEVENT
BEGIN:VEVENT
DTSTART;TZID=America/New_York:20260617T130000
DTEND;TZID=America/New_York:20260617T140000
DTSTAMP:20260419T151338
CREATED:20260323T015906Z
LAST-MODIFIED:20260323T015906Z
UID:47504-1781701200-1781704800@www.elderplan.org
SUMMARY:Tech Help\, Coffee & Chat
DESCRIPTION:
URL:https://www.elderplan.org/event/tech-help-coffee-chat-3/
LOCATION:Washington Heights Community Office
CATEGORIES:Washington Heights
END:VEVENT
BEGIN:VEVENT
DTSTART;TZID=America/New_York:20260627T100000
DTEND;TZID=America/New_York:20260627T160000
DTSTAMP:20260419T151338
CREATED:20260323T020001Z
LAST-MODIFIED:20260323T020001Z
UID:47506-1782554400-1782576000@www.elderplan.org
SUMMARY:Un Verano en NY con Elderplan
DESCRIPTION:
URL:https://www.elderplan.org/event/un-verano-en-ny-con-elderplan/
LOCATION:Washington Heights Community Office
CATEGORIES:Washington Heights
END:VEVENT
BEGIN:VEVENT
DTSTART;TZID=America/New_York:20260630T093000
DTEND;TZID=America/New_York:20260630T160000
DTSTAMP:20260419T151338
CREATED:20260323T020056Z
LAST-MODIFIED:20260323T020056Z
UID:47508-1782811800-1782835200@www.elderplan.org
SUMMARY:Food Stamps & SNAP Benefits Assistance
DESCRIPTION:
URL:https://www.elderplan.org/event/food-stamps-snap-benefits-assistance-3/
LOCATION:Washington Heights Community Office
CATEGORIES:Washington Heights
END:VEVENT
END:VCALENDAR