BEGIN:VCALENDAR
VERSION:2.0
PRODID:-//Elderplan - ECPv6.15.20//NONSGML v1.0//EN
CALSCALE:GREGORIAN
METHOD:PUBLISH
X-ORIGINAL-URL:https://www.elderplan.org
X-WR-CALDESC:Events for Elderplan
REFRESH-INTERVAL;VALUE=DURATION:PT1H
X-Robots-Tag:noindex
X-PUBLISHED-TTL:PT1H
BEGIN:VTIMEZONE
TZID:America/New_York
BEGIN:DAYLIGHT
TZOFFSETFROM:-0500
TZOFFSETTO:-0400
TZNAME:EDT
DTSTART:20250309T070000
END:DAYLIGHT
BEGIN:STANDARD
TZOFFSETFROM:-0400
TZOFFSETTO:-0500
TZNAME:EST
DTSTART:20251102T060000
END:STANDARD
BEGIN:DAYLIGHT
TZOFFSETFROM:-0500
TZOFFSETTO:-0400
TZNAME:EDT
DTSTART:20260308T070000
END:DAYLIGHT
BEGIN:STANDARD
TZOFFSETFROM:-0400
TZOFFSETTO:-0500
TZNAME:EST
DTSTART:20261101T060000
END:STANDARD
BEGIN:DAYLIGHT
TZOFFSETFROM:-0500
TZOFFSETTO:-0400
TZNAME:EDT
DTSTART:20270314T070000
END:DAYLIGHT
BEGIN:STANDARD
TZOFFSETFROM:-0400
TZOFFSETTO:-0500
TZNAME:EST
DTSTART:20271107T060000
END:STANDARD
END:VTIMEZONE
BEGIN:VEVENT
DTSTART;TZID=America/New_York:20260421T110000
DTEND;TZID=America/New_York:20260421T140000
DTSTAMP:20260419T165059
CREATED:20260323T015206Z
LAST-MODIFIED:20260323T015206Z
UID:47490-1776769200-1776780000@www.elderplan.org
SUMMARY:Spring Community Celebration
DESCRIPTION:
URL:https://www.elderplan.org/event/spring-community-celebration/
LOCATION:Washington Heights Community Office
CATEGORIES:Washington Heights
END:VEVENT
BEGIN:VEVENT
DTSTART;TZID=America/New_York:20260428T093000
DTEND;TZID=America/New_York:20260428T160000
DTSTAMP:20260419T165059
CREATED:20260323T015252Z
LAST-MODIFIED:20260323T015252Z
UID:47492-1777368600-1777392000@www.elderplan.org
SUMMARY:Food Stamps & SNAP Benefits Assistance
DESCRIPTION:
URL:https://www.elderplan.org/event/food-stamps-snap-benefits-assistance/
LOCATION:Washington Heights Community Office
CATEGORIES:Washington Heights
END:VEVENT
END:VCALENDAR