BEGIN:VCALENDAR
VERSION:2.0
PRODID:-//Elderplan - ECPv6.15.20//NONSGML v1.0//EN
CALSCALE:GREGORIAN
METHOD:PUBLISH
X-WR-CALNAME:Elderplan
X-ORIGINAL-URL:https://www.elderplan.org
X-WR-CALDESC:Events for Elderplan
REFRESH-INTERVAL;VALUE=DURATION:PT1H
X-Robots-Tag:noindex
X-PUBLISHED-TTL:PT1H
BEGIN:VTIMEZONE
TZID:America/New_York
BEGIN:DAYLIGHT
TZOFFSETFROM:-0500
TZOFFSETTO:-0400
TZNAME:EDT
DTSTART:20240310T070000
END:DAYLIGHT
BEGIN:STANDARD
TZOFFSETFROM:-0400
TZOFFSETTO:-0500
TZNAME:EST
DTSTART:20241103T060000
END:STANDARD
BEGIN:DAYLIGHT
TZOFFSETFROM:-0500
TZOFFSETTO:-0400
TZNAME:EDT
DTSTART:20250309T070000
END:DAYLIGHT
BEGIN:STANDARD
TZOFFSETFROM:-0400
TZOFFSETTO:-0500
TZNAME:EST
DTSTART:20251102T060000
END:STANDARD
BEGIN:DAYLIGHT
TZOFFSETFROM:-0500
TZOFFSETTO:-0400
TZNAME:EDT
DTSTART:20260308T070000
END:DAYLIGHT
BEGIN:STANDARD
TZOFFSETFROM:-0400
TZOFFSETTO:-0500
TZNAME:EST
DTSTART:20261101T060000
END:STANDARD
BEGIN:DAYLIGHT
TZOFFSETFROM:-0500
TZOFFSETTO:-0400
TZNAME:EDT
DTSTART:20270314T070000
END:DAYLIGHT
BEGIN:STANDARD
TZOFFSETFROM:-0400
TZOFFSETTO:-0500
TZNAME:EST
DTSTART:20271107T060000
END:STANDARD
END:VTIMEZONE
BEGIN:VEVENT
DTSTART;TZID=America/New_York:20260312T150000
DTEND;TZID=America/New_York:20260312T160000
DTSTAMP:20260421T102823
CREATED:20260227T210325Z
LAST-MODIFIED:20260316T184246Z
UID:46877-1773327600-1773331200@www.elderplan.org
SUMMARY:Games-Virtual Spring Party Bundle
DESCRIPTION:A fun\, energizing collection of spring‑themed virtual games designed to engage groups\, spark friendly competition\, and bring a festive seasonal vibe to any event. \nSimply click here to join \n 
URL:https://www.elderplan.org/event/games-virtual-spring-party-bundle/
CATEGORIES:Member-to-Member
ATTACH;FMTTYPE=image/jpeg:https://elderplan.imgix.net/VirtualGames-1.jpg?fm=pjpg
END:VEVENT
BEGIN:VEVENT
DTSTART;TZID=America/New_York:20260310T100000
DTEND;TZID=America/New_York:20260310T110000
DTSTAMP:20260421T102823
CREATED:20260227T204958Z
LAST-MODIFIED:20260316T184247Z
UID:46871-1773136800-1773140400@www.elderplan.org
SUMMARY:Tech Seminar: Smart Devices That Support Your Health & Well-Being
DESCRIPTION:These engaging digital literacy workshops empower older adults with essential technology skills—from navigating smartphones and online banking to managing health portals and staying safe online. Participants gain digital confidence\, independence\, and stronger social connections through hands-on learning. Each session is tailored to meet the unique needs of the community\, fostering lifelong learning and digital well-being. \nSimply click here to join
URL:https://www.elderplan.org/event/tech-seminar-smart-devices-that-support-your-health-well-being/
CATEGORIES:Member-to-Member
ATTACH;FMTTYPE=image/png:https://elderplan.imgix.net/iStock-1207514066-5-1.png?fm=png
END:VEVENT
BEGIN:VEVENT
DTSTART;TZID=America/New_York:20260305T150000
DTEND;TZID=America/New_York:20260305T160000
DTSTAMP:20260421T102823
CREATED:20260227T204813Z
LAST-MODIFIED:20260316T184247Z
UID:46867-1772722800-1772726400@www.elderplan.org
SUMMARY:Cooking show with Man Nga: Heart Berry Mochi
DESCRIPTION:Quick and easy-to-follow cooking demonstrations of delicious and healthy recipes. \nSimply click here to join
URL:https://www.elderplan.org/event/cooking-show-with-man-nga-heart-berry-mochi-2/
CATEGORIES:Member-to-Member
ATTACH;FMTTYPE=image/jpeg:https://elderplan.imgix.net/Cooking-1.jpg?fm=pjpg
END:VEVENT
BEGIN:VEVENT
DTSTART;TZID=America/New_York:20260303T100000
DTEND;TZID=America/New_York:20260303T110000
DTSTAMP:20260421T102823
CREATED:20260227T204642Z
LAST-MODIFIED:20260316T184247Z
UID:46865-1772532000-1772535600@www.elderplan.org
SUMMARY:Journaling Class
DESCRIPTION:Let’s write together and learn about ourselves! In this class\, we’ll use journals to help us feel happy and strong. It’s easy and fun. \nSimply click here to join
URL:https://www.elderplan.org/event/journaling-class-3/
CATEGORIES:Member-to-Member
ATTACH;FMTTYPE=image/jpeg:https://elderplan.imgix.net/Enroll_header2-1.jpg?fm=pjpg
END:VEVENT
BEGIN:VEVENT
DTSTART;TZID=America/New_York:20260226T150000
DTEND;TZID=America/New_York:20260226T153000
DTSTAMP:20260421T102823
CREATED:20260129T220803Z
LAST-MODIFIED:20260316T184248Z
UID:46535-1772118000-1772119800@www.elderplan.org
SUMMARY:SOCA class
DESCRIPTION:The SOCA class for Older Adults teaches the foundation of Caribbean dance while basking in the high vibrations of Soca music. This workshop allows folks to “free up themselves” or reduce stress while developing endurance\, stamina\, flexibility\, coordination\, and improving memory. \nClick here to join
URL:https://www.elderplan.org/event/soca-class-11/
CATEGORIES:Member-to-Member
ATTACH;FMTTYPE=image/jpeg:https://elderplan.imgix.net/Exercise-2.jpg?fm=pjpg
END:VEVENT
BEGIN:VEVENT
DTSTART;TZID=America/New_York:20260224T100000
DTEND;TZID=America/New_York:20260224T103000
DTSTAMP:20260421T102823
CREATED:20260129T220639Z
LAST-MODIFIED:20260316T184248Z
UID:46533-1771927200-1771929000@www.elderplan.org
SUMMARY:Chair Zumba
DESCRIPTION:Gentle zumba through beginner and chair poses can reduce swelling in joints\, increase mobility\, improve balance\, and reduce stress. \nClick here to join
URL:https://www.elderplan.org/event/chair-zumba/
CATEGORIES:Member-to-Member
ATTACH;FMTTYPE=image/jpeg:https://elderplan.imgix.net/exercise-1.jpg?fm=pjpg
END:VEVENT
BEGIN:VEVENT
DTSTART;TZID=America/New_York:20260219T150000
DTEND;TZID=America/New_York:20260219T160000
DTSTAMP:20260421T102823
CREATED:20260129T220505Z
LAST-MODIFIED:20260316T184249Z
UID:46531-1771513200-1771516800@www.elderplan.org
SUMMARY:Maritri Garrett Concert
DESCRIPTION:Maritri is a multi-instrumentalist\, singer\, and composer from Southern California. She lived in Midwood\, Brooklyn\, for twenty years and is classically trained\, but she also performs Jazz and folk music. \nClick here to join
URL:https://www.elderplan.org/event/maritri-garrett-concert-22/
CATEGORIES:Member-to-Member
ATTACH;FMTTYPE=image/jpeg:https://elderplan.imgix.net/Music.jpg?fm=pjpg
END:VEVENT
BEGIN:VEVENT
DTSTART;TZID=America/New_York:20260217T100000
DTEND;TZID=America/New_York:20260217T110000
DTSTAMP:20260421T102823
CREATED:20260129T220349Z
LAST-MODIFIED:20260316T184249Z
UID:46529-1771322400-1771326000@www.elderplan.org
SUMMARY:Meditation Class with Rikki
DESCRIPTION:Gentle yoga through beginner and chair poses can reduce swelling in joints\, increase mobility\, improve balance and reduce stress. \nClick here to join
URL:https://www.elderplan.org/event/meditation-class-with-rikki-7/
CATEGORIES:Member-to-Member
ATTACH;FMTTYPE=image/jpeg:https://elderplan.imgix.net/Meditation.jpg?fm=pjpg
END:VEVENT
BEGIN:VEVENT
DTSTART;TZID=America/New_York:20260212T150000
DTEND;TZID=America/New_York:20260212T160000
DTSTAMP:20260421T102823
CREATED:20260129T220213Z
LAST-MODIFIED:20260316T184249Z
UID:46527-1770908400-1770912000@www.elderplan.org
SUMMARY:Cooking show with Man Nga: Heart Berry Mochi
DESCRIPTION:Quick and easy-to-follow cooking demonstrations of delicious and healthy recipes. \nClick here to join
URL:https://www.elderplan.org/event/cooking-show-with-man-nga-heart-berry-mochi/
CATEGORIES:Member-to-Member
ATTACH;FMTTYPE=image/jpeg:https://elderplan.imgix.net/Cooking.jpg?fm=pjpg
END:VEVENT
BEGIN:VEVENT
DTSTART;TZID=America/New_York:20260210T100000
DTEND;TZID=America/New_York:20260210T110000
DTSTAMP:20260421T102823
CREATED:20260129T215939Z
LAST-MODIFIED:20260316T184250Z
UID:46525-1770717600-1770721200@www.elderplan.org
SUMMARY:Technology Class: Digital Tools for Rest & Well-Being
DESCRIPTION:These engaging digital literacy workshops empower older adults with essential technology skills—from navigating smartphones and online banking to managing health portals and staying safe online. Participants gain digital confidence\, independence\, and stronger social connections through hands-on learning. Each session is tailored to meet the unique needs of the community\, fostering lifelong learning and digital well-being. \nClick here to join
URL:https://www.elderplan.org/event/technology-class-digital-tools-for-rest-well-being/
CATEGORIES:Member-to-Member
ATTACH;FMTTYPE=image/png:https://elderplan.imgix.net/iStock-1207514066-5-1-1.png?fm=png
END:VEVENT
BEGIN:VEVENT
DTSTART;TZID=America/New_York:20260205T150000
DTEND;TZID=America/New_York:20260205T160000
DTSTAMP:20260421T102823
CREATED:20260129T215010Z
LAST-MODIFIED:20260316T184250Z
UID:46523-1770303600-1770307200@www.elderplan.org
SUMMARY:Amanda Scalici Concert
DESCRIPTION:Jazz duo including vocalist (Amanda Scalici) and guitarist (Robert Scalici) performing jazz standards by such artists as Dean Martin\, Doris Day\, Frank Sinatra\, Connie Francis\, Ella Fitzgerald\, and Antonio Carlos Jobim (bossa nova)\, to name a few. \nClick here to join
URL:https://www.elderplan.org/event/amanda-scalici-concert-27/
CATEGORIES:Member-to-Member
ATTACH;FMTTYPE=image/jpeg:https://elderplan.imgix.net/Music.jpg?fm=pjpg
END:VEVENT
BEGIN:VEVENT
DTSTART;TZID=America/New_York:20260203T100000
DTEND;TZID=America/New_York:20260203T110000
DTSTAMP:20260421T102823
CREATED:20260129T214616Z
LAST-MODIFIED:20260316T184250Z
UID:46514-1770112800-1770116400@www.elderplan.org
SUMMARY:Games-Valentine's day Trivia
DESCRIPTION:Valentine’s Day Trivia is a fun\, interactive virtual game focused on Valentine’s Day traditions.  Enjoy friendly competition\, spark conversation\, and celebrate the holiday in a lighthearted way.\n\nClick here to join.
URL:https://www.elderplan.org/event/games-valentines-day-trivia/
CATEGORIES:Member-to-Member
ATTACH;FMTTYPE=image/jpeg:https://elderplan.imgix.net/Enroll_header-1-1.jpg?fm=pjpg
END:VEVENT
BEGIN:VEVENT
DTSTART;TZID=America/New_York:20260129T150000
DTEND;TZID=America/New_York:20260129T160000
DTSTAMP:20260421T102823
CREATED:20251128T213641Z
LAST-MODIFIED:20260316T184251Z
UID:45385-1769698800-1769702400@www.elderplan.org
SUMMARY:Cooking show with Man Nga: Chinese New Year Nian Gao (Rice Cake) Soup
DESCRIPTION:Quick and easy-to-follow cooking demonstrations of delicious and healthy recipes. \n  \nSimply click here to join
URL:https://www.elderplan.org/event/cooking-show-with-man-nga-chinese-new-year-nian-gao-rice-cake-soup/
CATEGORIES:Member-to-Member
ATTACH;FMTTYPE=image/jpeg:https://elderplan.imgix.net/Cooking.jpg?fm=pjpg
END:VEVENT
BEGIN:VEVENT
DTSTART;TZID=America/New_York:20260127T100000
DTEND;TZID=America/New_York:20260127T110000
DTSTAMP:20260421T102823
CREATED:20251128T213457Z
LAST-MODIFIED:20260316T184251Z
UID:45383-1769508000-1769511600@www.elderplan.org
SUMMARY:Tony Michaels Concert
DESCRIPTION:Tony Michaels is a talented vocalist\, saxophonist\, and flutist who recently retired from being a New York City music teacher. Tony began his musical journey at the age of eight. \nThe highlight of Tony’s career came when he was given the opportunity and honor of singing our National Anthem at Shea Stadium (the New York Met’s baseball teams’ former stadium). \nJoin us on a musical journey with Tony. \n  \nSimply click here to join
URL:https://www.elderplan.org/event/tony-michaels-concert-13/
CATEGORIES:Member-to-Member
ATTACH;FMTTYPE=image/jpeg:https://elderplan.imgix.net/2021/03/Music.jpg?fm=pjpg
END:VEVENT
BEGIN:VEVENT
DTSTART;TZID=America/New_York:20260122T150000
DTEND;TZID=America/New_York:20260122T153000
DTSTAMP:20260421T102823
CREATED:20251128T213227Z
LAST-MODIFIED:20260316T184252Z
UID:45381-1769094000-1769095800@www.elderplan.org
SUMMARY:Jazz Class with Wendy
DESCRIPTION:Jazz is a dynamic yet gentle dance. style that instructors say is primarily an aerobic workout — and it’s all about expressing yourself and having fun. \nSimply click here to join
URL:https://www.elderplan.org/event/jazz-class-with-wendy-8/
CATEGORIES:Member-to-Member
ATTACH;FMTTYPE=image/jpeg:https://elderplan.imgix.net/exercise.jpg?fm=pjpg
END:VEVENT
BEGIN:VEVENT
DTSTART;TZID=America/New_York:20260120T100000
DTEND;TZID=America/New_York:20260120T110000
DTSTAMP:20260421T102823
CREATED:20251128T212840Z
LAST-MODIFIED:20260316T184252Z
UID:45379-1768903200-1768906800@www.elderplan.org
SUMMARY:Meditation Class with Rikki
DESCRIPTION:Meditation is a gentle practice that helps calm the mind and reduce stress — and it’s all about finding inner peace and balance. \nSimply click here to join
URL:https://www.elderplan.org/event/meditation-class-with-rikki-6/
CATEGORIES:Member-to-Member
ATTACH;FMTTYPE=image/jpeg:https://elderplan.imgix.net/Meditation.jpg?fm=pjpg
END:VEVENT
BEGIN:VEVENT
DTSTART;TZID=America/New_York:20260115T150000
DTEND;TZID=America/New_York:20260115T160000
DTSTAMP:20260421T102823
CREATED:20251128T212651Z
LAST-MODIFIED:20260316T184253Z
UID:45377-1768489200-1768492800@www.elderplan.org
SUMMARY:Games-Once Upon a Time
DESCRIPTION:It is a fun game where players create a story together. Each turn adds a new twist\, making every tale unique and full of surprises! \nSimply click here to join
URL:https://www.elderplan.org/event/games-once-upon-a-time/
CATEGORIES:Member-to-Member
ATTACH;FMTTYPE=image/jpeg:https://elderplan.imgix.net/Enroll_header.jpg?fm=pjpg
END:VEVENT
BEGIN:VEVENT
DTSTART;TZID=America/New_York:20260113T100000
DTEND;TZID=America/New_York:20260113T110000
DTSTAMP:20260421T102823
CREATED:20251128T211825Z
LAST-MODIFIED:20260316T184253Z
UID:45375-1768298400-1768302000@www.elderplan.org
SUMMARY:Digital Literacy: Introduction to AI
DESCRIPTION:Learn what Artificial Intelligence is and how it impacts everyday life in simple\, easy-to-understand terms. This class will help you feel more confident using technology and show practical examples of AI you already encounter daily. \n  \nSimply click here to join
URL:https://www.elderplan.org/event/digital-literacy-introduction-to-ai/
CATEGORIES:Member-to-Member
ATTACH;FMTTYPE=image/jpeg:https://elderplan.imgix.net/Enroll_header-1.jpg?fm=pjpg
END:VEVENT
BEGIN:VEVENT
DTSTART;TZID=America/New_York:20260108T150000
DTEND;TZID=America/New_York:20260108T153000
DTSTAMP:20260421T102823
CREATED:20251128T211656Z
LAST-MODIFIED:20260316T184253Z
UID:45373-1767884400-1767886200@www.elderplan.org
SUMMARY:Chair yoga Class with Miqi
DESCRIPTION:Gentle yoga through beginner and chair poses can reduce swelling in joints\, increase mobility\, improve balance and reduce stress. \n  \nSimply click here to join \n  \n 
URL:https://www.elderplan.org/event/chair-yoga-class-with-miqi/
CATEGORIES:Member-to-Member
ATTACH;FMTTYPE=image/jpeg:https://elderplan.imgix.net/Exercise-2.jpg?fm=pjpg
END:VEVENT
BEGIN:VEVENT
DTSTART;TZID=America/New_York:20260106T100000
DTEND;TZID=America/New_York:20260106T110000
DTSTAMP:20260421T102823
CREATED:20251128T210846Z
LAST-MODIFIED:20260316T184254Z
UID:45371-1767693600-1767697200@www.elderplan.org
SUMMARY:Cooking show with Neron. Lentil Dal with Basmati Rice
DESCRIPTION:Quick and easy-to-follow cooking demonstrations of delicious and healthy recipes. \n  \nSimply click here to join
URL:https://www.elderplan.org/event/cooking-show-with-neron-lentil-dal-with-basmati-rice/
CATEGORIES:Member-to-Member
ATTACH;FMTTYPE=image/jpeg:https://elderplan.imgix.net/Cooking-1.jpg?fm=pjpg
END:VEVENT
BEGIN:VEVENT
DTSTART;TZID=America/New_York:20251223T100000
DTEND;TZID=America/New_York:20251223T110000
DTSTAMP:20260421T102823
CREATED:20251128T210639Z
LAST-MODIFIED:20260316T184254Z
UID:45369-1766484000-1766487600@www.elderplan.org
SUMMARY:Cooking show with Neron.: Pearl Couscous Holiday Grain Bowl
DESCRIPTION:Quick and easy-to-follow cooking demonstrations of delicious and healthy recipes. \n  \nSimply click here to join
URL:https://www.elderplan.org/event/cooking-show-with-neron-pearl-couscous-holiday-grain-bowl/
CATEGORIES:Member-to-Member
ATTACH;FMTTYPE=image/jpeg:https://elderplan.imgix.net/Cooking.jpg?fm=pjpg
END:VEVENT
BEGIN:VEVENT
DTSTART;TZID=America/New_York:20251218T150000
DTEND;TZID=America/New_York:20251218T153000
DTSTAMP:20260421T102823
CREATED:20251128T210512Z
LAST-MODIFIED:20260316T184255Z
UID:45367-1766070000-1766071800@www.elderplan.org
SUMMARY:Jazz Class with Wendy
DESCRIPTION:Jazz is a dynamic yet gentle dance style that instructors say is primarily an aerobic workout — and it’s all about expressing yourself and having fun \nSimply click here to join \n 
URL:https://www.elderplan.org/event/jazz-class-with-wendy-7/
CATEGORIES:Member-to-Member
ATTACH;FMTTYPE=image/jpeg:https://elderplan.imgix.net/Exercise-2.jpg?fm=pjpg
END:VEVENT
BEGIN:VEVENT
DTSTART;TZID=America/New_York:20251216T100000
DTEND;TZID=America/New_York:20251216T110000
DTSTAMP:20260421T102823
CREATED:20251128T205529Z
LAST-MODIFIED:20260316T184255Z
UID:45364-1765879200-1765882800@www.elderplan.org
SUMMARY:Concert with Keilani
DESCRIPTION:Keilani Ramirez is a singer-songwriter and guitarist who has recently been working on a bilingual folk-rock music album. Keilani has sung for as long as she can remember\, picked up her first guitar at age 13\, and taught herself how to play. Keilani specializes in covers of her favorite songs and loves to play finger-style and acoustic renditions of songs that she loves. \n  \nSimply click here to join
URL:https://www.elderplan.org/event/concert-with-keilani-5/
CATEGORIES:Member-to-Member
ATTACH;FMTTYPE=image/jpeg:https://elderplan.imgix.net/Music.jpg?fm=pjpg
END:VEVENT
BEGIN:VEVENT
DTSTART;TZID=America/New_York:20251211T150000
DTEND;TZID=America/New_York:20251211T160000
DTSTAMP:20260421T102823
CREATED:20251128T205254Z
LAST-MODIFIED:20260316T184255Z
UID:45362-1765465200-1765468800@www.elderplan.org
SUMMARY:Journaling
DESCRIPTION:Let’s write together and learn about ourselves! In this class\, we’ll use journals to help us feel happy and strong. It’s easy and fun. \n  \nSimply click here to join
URL:https://www.elderplan.org/event/journaling-3/
CATEGORIES:Member-to-Member
ATTACH;FMTTYPE=image/jpeg:https://elderplan.imgix.net/Enroll_header-1-1.jpg?fm=pjpg
END:VEVENT
BEGIN:VEVENT
DTSTART;TZID=America/New_York:20251209T100000
DTEND;TZID=America/New_York:20251209T110000
DTSTAMP:20260421T102823
CREATED:20251128T205059Z
LAST-MODIFIED:20260316T184256Z
UID:45360-1765274400-1765278000@www.elderplan.org
SUMMARY:Technology Class: Smart calendars\, to-do lists\, and reminders
DESCRIPTION:These engaging digital literacy workshops empower older adults with essential technology skills—from navigating smartphones and online banking to managing health portals and staying safe online. Participants gain digital confidence\, independence\, and stronger social connections through hands-on learning. Each session is tailored to meet the unique needs of the community\, fostering lifelong learning and digital well-being. \n  \nSimply click here to join
URL:https://www.elderplan.org/event/jazz-class-with-wendy-6/
CATEGORIES:Member-to-Member
ATTACH;FMTTYPE=image/jpeg:https://elderplan.imgix.net/Enroll_header-1.jpg?fm=pjpg
END:VEVENT
BEGIN:VEVENT
DTSTART;TZID=America/New_York:20251204T150000
DTEND;TZID=America/New_York:20251204T160000
DTSTAMP:20260421T102823
CREATED:20251128T204914Z
LAST-MODIFIED:20260316T184256Z
UID:45358-1764860400-1764864000@www.elderplan.org
SUMMARY:Amanda Scalici concert
DESCRIPTION:Jazz duo including vocalist (Amanda Scalici) and guitarist (Robert Scalici) performing jazz standards by such artists as Dean Martin\, Doris Day\, Frank Sinatra\, Connie Francis\, Ella Fitzgerald\, and Antonio Carlos Jobim (bossa nova)\, to name a few. \nSimply click here to join
URL:https://www.elderplan.org/event/amanda-scalici-concert-26/
CATEGORIES:Member-to-Member
ATTACH;FMTTYPE=image/jpeg:https://elderplan.imgix.net/Music.jpg?fm=pjpg
END:VEVENT
BEGIN:VEVENT
DTSTART;TZID=America/New_York:20251202T100000
DTEND;TZID=America/New_York:20251202T110000
DTSTAMP:20260421T102823
CREATED:20251201T193258Z
LAST-MODIFIED:20260316T184257Z
UID:45431-1764669600-1764673200@www.elderplan.org
SUMMARY:Games-labeling
DESCRIPTION:Games-labeling is a lively activity where players listen to clues and name the correct items. It’s all about quick thinking and memory\, making it fun and engaging for everyone. \nSimply click here to join.
URL:https://www.elderplan.org/event/games-labeling/
CATEGORIES:Member-to-Member
ATTACH;FMTTYPE=image/jpeg:https://elderplan.imgix.net/VirtualGames.jpg?fm=pjpg
END:VEVENT
BEGIN:VEVENT
DTSTART;TZID=America/New_York:20251125T100000
DTEND;TZID=America/New_York:20251125T110000
DTSTAMP:20260421T102823
CREATED:20251031T191913Z
LAST-MODIFIED:20260316T184257Z
UID:44859-1764064800-1764068400@www.elderplan.org
SUMMARY:Maritri Garrett Concert
DESCRIPTION:Maritri is a multi-instrumentalist\, singer\, and composer from Southern California. She lived in Midwood\, Brooklyn\, for twenty years and is classically trained\, but she also performs Jazz and folk music. \n  \nSimply click here to join \n 
URL:https://www.elderplan.org/event/maritri-garrett-concert-21/
CATEGORIES:Member-to-Member
ATTACH;FMTTYPE=image/jpeg:https://elderplan.imgix.net/2021/03/Music.jpg?fm=pjpg
END:VEVENT
BEGIN:VEVENT
DTSTART;TZID=America/New_York:20251120T150000
DTEND;TZID=America/New_York:20251120T160000
DTSTAMP:20260421T102823
CREATED:20251031T191808Z
LAST-MODIFIED:20260316T184257Z
UID:44857-1763650800-1763654400@www.elderplan.org
SUMMARY:Games-Holiday Fun Trivia
DESCRIPTION:Celebrate the spirit of Thanksgiving with Holiday Fun Trivia—a warm and engaging game. Share laughs and memories while testing your knowledge of beloved traditions\, festive foods\, and holiday history \n  \nSimply click here to join
URL:https://www.elderplan.org/event/games-holiday-fun-trivia/
CATEGORIES:Member-to-Member
ATTACH;FMTTYPE=image/jpeg:https://elderplan.imgix.net/Enroll_header2-1.jpg?fm=pjpg
END:VEVENT
BEGIN:VEVENT
DTSTART;TZID=America/New_York:20251118T100000
DTEND;TZID=America/New_York:20251118T103000
DTSTAMP:20260421T102823
CREATED:20251031T191527Z
LAST-MODIFIED:20260316T184258Z
UID:44855-1763460000-1763461800@www.elderplan.org
SUMMARY:Chair yoga Class
DESCRIPTION:Gentle yoga through beginner and chair poses can reduce swelling in joints\, increase mobility\, improve balance and reduce stress. \n  \nSimply click here to join \n 
URL:https://www.elderplan.org/event/chair-yoga-class-7/
CATEGORIES:Member-to-Member
ATTACH;FMTTYPE=image/jpeg:https://elderplan.imgix.net/exercise.jpg?fm=pjpg
END:VEVENT
END:VCALENDAR