BEGIN:VCALENDAR
VERSION:2.0
PRODID:-//Elderplan - ECPv6.15.20//NONSGML v1.0//EN
CALSCALE:GREGORIAN
METHOD:PUBLISH
X-ORIGINAL-URL:https://www.elderplan.org
X-WR-CALDESC:Events for Elderplan
REFRESH-INTERVAL;VALUE=DURATION:PT1H
X-Robots-Tag:noindex
X-PUBLISHED-TTL:PT1H
BEGIN:VTIMEZONE
TZID:America/New_York
BEGIN:DAYLIGHT
TZOFFSETFROM:-0500
TZOFFSETTO:-0400
TZNAME:EDT
DTSTART:20210314T070000
END:DAYLIGHT
BEGIN:STANDARD
TZOFFSETFROM:-0400
TZOFFSETTO:-0500
TZNAME:EST
DTSTART:20211107T060000
END:STANDARD
BEGIN:DAYLIGHT
TZOFFSETFROM:-0500
TZOFFSETTO:-0400
TZNAME:EDT
DTSTART:20220313T070000
END:DAYLIGHT
BEGIN:STANDARD
TZOFFSETFROM:-0400
TZOFFSETTO:-0500
TZNAME:EST
DTSTART:20221106T060000
END:STANDARD
BEGIN:DAYLIGHT
TZOFFSETFROM:-0500
TZOFFSETTO:-0400
TZNAME:EDT
DTSTART:20230312T070000
END:DAYLIGHT
BEGIN:STANDARD
TZOFFSETFROM:-0400
TZOFFSETTO:-0500
TZNAME:EST
DTSTART:20231105T060000
END:STANDARD
END:VTIMEZONE
BEGIN:VEVENT
DTSTART;TZID=America/New_York:20221004T100000
DTEND;TZID=America/New_York:20221004T110000
DTSTAMP:20260423T062219
CREATED:20220923T194629Z
LAST-MODIFIED:20220923T194629Z
UID:16589-1664877600-1664881200@www.elderplan.org
SUMMARY:Guided Meditation and Qigong (Tai Chi)
DESCRIPTION:The class will provide a sense of calm\, peace and balance that can benefit both your emotional well-being and your overall health. \nSimply click on the link below to join. \nhttps://teams.microsoft.com/l/meetup-join/19%3ameeting_MWM0YTgwNzAtM2RiOC00OTU3LTg2NmMtNDZkOTc1MDcwOWZm%40thread.v2/0?context=%7b%22Tid%22%3a%2200e7ba7e-2434-4488-94c9-9fcda612f634%22%2c%22Oid%22%3a%224b2baded-5af2-495e-a7ba-e23c64d64169%22%7d \n 
URL:https://www.elderplan.org/event/guided-meditation-and-qigong-tai-chi-11/
ATTACH;FMTTYPE=image/jpeg:https://elderplan.imgix.net/2021/04/Meditation.jpg?fm=pjpg
END:VEVENT
BEGIN:VEVENT
DTSTART;TZID=America/New_York:20221004T100000
DTEND;TZID=America/New_York:20221004T110000
DTSTAMP:20260423T062219
CREATED:20220923T194629Z
LAST-MODIFIED:20220923T194629Z
UID:42606-1664877600-1664881200@www.elderplan.org
SUMMARY:Guided Meditation and Qigong (Tai Chi)
DESCRIPTION:The class will provide a sense of calm\, peace and balance that can benefit both your emotional well-being and your overall health. \nSimply click on the link below to join. \nhttps://teams.microsoft.com/l/meetup-join/19%3ameeting_MWM0YTgwNzAtM2RiOC00OTU3LTg2NmMtNDZkOTc1MDcwOWZm%40thread.v2/0?context=%7b%22Tid%22%3a%2200e7ba7e-2434-4488-94c9-9fcda612f634%22%2c%22Oid%22%3a%224b2baded-5af2-495e-a7ba-e23c64d64169%22%7d \n 
URL:https://www.elderplan.org/event/guided-meditation-and-qigong-tai-chi-11-5/
ATTACH;FMTTYPE=image/jpeg:https://elderplan.imgix.net/2021/04/Meditation.jpg?fm=pjpg
END:VEVENT
BEGIN:VEVENT
DTSTART;TZID=America/New_York:20221004T100000
DTEND;TZID=America/New_York:20221004T110000
DTSTAMP:20260423T062219
CREATED:20220923T194629Z
LAST-MODIFIED:20220923T194629Z
UID:42132-1664877600-1664881200@www.elderplan.org
SUMMARY:Guided Meditation and Qigong (Tai Chi)
DESCRIPTION:The class will provide a sense of calm\, peace and balance that can benefit both your emotional well-being and your overall health. \nSimply click on the link below to join. \nhttps://teams.microsoft.com/l/meetup-join/19%3ameeting_MWM0YTgwNzAtM2RiOC00OTU3LTg2NmMtNDZkOTc1MDcwOWZm%40thread.v2/0?context=%7b%22Tid%22%3a%2200e7ba7e-2434-4488-94c9-9fcda612f634%22%2c%22Oid%22%3a%224b2baded-5af2-495e-a7ba-e23c64d64169%22%7d \n 
URL:https://www.elderplan.org/event/guided-meditation-and-qigong-tai-chi-11-4/
ATTACH;FMTTYPE=image/jpeg:https://elderplan.imgix.net/2021/04/Meditation.jpg?fm=pjpg
END:VEVENT
BEGIN:VEVENT
DTSTART;TZID=America/New_York:20221004T100000
DTEND;TZID=America/New_York:20221004T110000
DTSTAMP:20260423T062219
CREATED:20220923T194629Z
LAST-MODIFIED:20220923T194629Z
UID:41441-1664877600-1664881200@www.elderplan.org
SUMMARY:Guided Meditation and Qigong (Tai Chi)
DESCRIPTION:The class will provide a sense of calm\, peace and balance that can benefit both your emotional well-being and your overall health. \nSimply click on the link below to join. \nhttps://teams.microsoft.com/l/meetup-join/19%3ameeting_MWM0YTgwNzAtM2RiOC00OTU3LTg2NmMtNDZkOTc1MDcwOWZm%40thread.v2/0?context=%7b%22Tid%22%3a%2200e7ba7e-2434-4488-94c9-9fcda612f634%22%2c%22Oid%22%3a%224b2baded-5af2-495e-a7ba-e23c64d64169%22%7d \n 
URL:https://www.elderplan.org/event/guided-meditation-and-qigong-tai-chi-11-3/
ATTACH;FMTTYPE=image/jpeg:https://elderplan.imgix.net/2021/04/Meditation.jpg?fm=pjpg
END:VEVENT
BEGIN:VEVENT
DTSTART;TZID=America/New_York:20221004T100000
DTEND;TZID=America/New_York:20221004T110000
DTSTAMP:20260423T062219
CREATED:20220923T234629Z
LAST-MODIFIED:20220923T234629Z
UID:42657-1664877600-1664881200@www.elderplan.org
SUMMARY:Guided Meditation and Qigong (Tai Chi)
DESCRIPTION:The class will provide a sense of calm\, peace and balance that can benefit both your emotional well-being and your overall health. \nSimply click on the link below to join. \nhttps://teams.microsoft.com/l/meetup-join/19%3ameeting_MWM0YTgwNzAtM2RiOC00OTU3LTg2NmMtNDZkOTc1MDcwOWZm%40thread.v2/0?context=%7b%22Tid%22%3a%2200e7ba7e-2434-4488-94c9-9fcda612f634%22%2c%22Oid%22%3a%224b2baded-5af2-495e-a7ba-e23c64d64169%22%7d \n 
URL:https://www.elderplan.org/event/guided-meditation-and-qigong-tai-chi-11-2-4/
ATTACH;FMTTYPE=image/jpeg:https://elderplan.imgix.net/Meditation-1.jpg?fm=pjpg
END:VEVENT
BEGIN:VEVENT
DTSTART;TZID=America/New_York:20221004T100000
DTEND;TZID=America/New_York:20221004T110000
DTSTAMP:20260423T062219
CREATED:20220923T234629Z
LAST-MODIFIED:20220923T234629Z
UID:42189-1664877600-1664881200@www.elderplan.org
SUMMARY:Guided Meditation and Qigong (Tai Chi)
DESCRIPTION:The class will provide a sense of calm\, peace and balance that can benefit both your emotional well-being and your overall health. \nSimply click on the link below to join. \nhttps://teams.microsoft.com/l/meetup-join/19%3ameeting_MWM0YTgwNzAtM2RiOC00OTU3LTg2NmMtNDZkOTc1MDcwOWZm%40thread.v2/0?context=%7b%22Tid%22%3a%2200e7ba7e-2434-4488-94c9-9fcda612f634%22%2c%22Oid%22%3a%224b2baded-5af2-495e-a7ba-e23c64d64169%22%7d \n 
URL:https://www.elderplan.org/event/guided-meditation-and-qigong-tai-chi-11-2-3/
ATTACH;FMTTYPE=image/jpeg:https://elderplan.imgix.net/Meditation-1.jpg?fm=pjpg
END:VEVENT
BEGIN:VEVENT
DTSTART;TZID=America/New_York:20221004T100000
DTEND;TZID=America/New_York:20221004T110000
DTSTAMP:20260423T062219
CREATED:20220923T234629Z
LAST-MODIFIED:20220923T234629Z
UID:41459-1664877600-1664881200@www.elderplan.org
SUMMARY:Guided Meditation and Qigong (Tai Chi)
DESCRIPTION:The class will provide a sense of calm\, peace and balance that can benefit both your emotional well-being and your overall health. \nSimply click on the link below to join. \nhttps://teams.microsoft.com/l/meetup-join/19%3ameeting_MWM0YTgwNzAtM2RiOC00OTU3LTg2NmMtNDZkOTc1MDcwOWZm%40thread.v2/0?context=%7b%22Tid%22%3a%2200e7ba7e-2434-4488-94c9-9fcda612f634%22%2c%22Oid%22%3a%224b2baded-5af2-495e-a7ba-e23c64d64169%22%7d \n 
URL:https://www.elderplan.org/event/guided-meditation-and-qigong-tai-chi-11-2-2/
ATTACH;FMTTYPE=image/jpeg:https://elderplan.imgix.net/Meditation-1.jpg?fm=pjpg
END:VEVENT
BEGIN:VEVENT
DTSTART;TZID=America/New_York:20221004T100000
DTEND;TZID=America/New_York:20221004T110000
DTSTAMP:20260423T062219
CREATED:20220923T234629Z
LAST-MODIFIED:20220923T234629Z
UID:40982-1664877600-1664881200@www.elderplan.org
SUMMARY:Guided Meditation and Qigong (Tai Chi)
DESCRIPTION:The class will provide a sense of calm\, peace and balance that can benefit both your emotional well-being and your overall health. \nSimply click on the link below to join. \nhttps://teams.microsoft.com/l/meetup-join/19%3ameeting_MWM0YTgwNzAtM2RiOC00OTU3LTg2NmMtNDZkOTc1MDcwOWZm%40thread.v2/0?context=%7b%22Tid%22%3a%2200e7ba7e-2434-4488-94c9-9fcda612f634%22%2c%22Oid%22%3a%224b2baded-5af2-495e-a7ba-e23c64d64169%22%7d \n 
URL:https://www.elderplan.org/event/guided-meditation-and-qigong-tai-chi-11-2/
ATTACH;FMTTYPE=image/jpeg:https://elderplan.imgix.net/Meditation.jpg?fm=pjpg
END:VEVENT
BEGIN:VEVENT
DTSTART;TZID=America/New_York:20221006T150000
DTEND;TZID=America/New_York:20221006T160000
DTSTAMP:20260423T062219
CREATED:20220923T194849Z
LAST-MODIFIED:20220923T194849Z
UID:16590-1665068400-1665072000@www.elderplan.org
SUMMARY:Cooking Show: Oatmeal Banana Breakfast Bars and Lentil Walnut Stuffed Peppers
DESCRIPTION:Quick and easy-to-follow cooking demonstrations of delicious and healthy recipes. \nSimply click on the link below to join. \nhttps://teams.microsoft.com/l/meetup-join/19%3ameeting_N2FmNzlmNDQtZGFkYi00MmU5LWI3YzgtOGYyM2VmNDkwYTlj%40thread.v2/0?context=%7b%22Tid%22%3a%2200e7ba7e-2434-4488-94c9-9fcda612f634%22%2c%22Oid%22%3a%22acd03333-9721-4ec7-9f18-54cfad37954e%22%7d \n 
URL:https://www.elderplan.org/event/cooking-show-oatmeal-banana-breakfast-bars-and-lentil-walnut-stuffed-peppers/
ATTACH;FMTTYPE=image/jpeg:https://elderplan.imgix.net/2021/04/Cooking.jpg?fm=pjpg
END:VEVENT
BEGIN:VEVENT
DTSTART;TZID=America/New_York:20221006T150000
DTEND;TZID=America/New_York:20221006T160000
DTSTAMP:20260423T062219
CREATED:20220923T194849Z
LAST-MODIFIED:20220923T194849Z
UID:42610-1665068400-1665072000@www.elderplan.org
SUMMARY:Cooking Show: Oatmeal Banana Breakfast Bars and Lentil Walnut Stuffed Peppers
DESCRIPTION:Quick and easy-to-follow cooking demonstrations of delicious and healthy recipes. \nSimply click on the link below to join. \nhttps://teams.microsoft.com/l/meetup-join/19%3ameeting_N2FmNzlmNDQtZGFkYi00MmU5LWI3YzgtOGYyM2VmNDkwYTlj%40thread.v2/0?context=%7b%22Tid%22%3a%2200e7ba7e-2434-4488-94c9-9fcda612f634%22%2c%22Oid%22%3a%22acd03333-9721-4ec7-9f18-54cfad37954e%22%7d \n 
URL:https://www.elderplan.org/event/cooking-show-oatmeal-banana-breakfast-bars-and-lentil-walnut-stuffed-peppers-5/
ATTACH;FMTTYPE=image/jpeg:https://elderplan.imgix.net/2021/04/Cooking.jpg?fm=pjpg
END:VEVENT
BEGIN:VEVENT
DTSTART;TZID=America/New_York:20221006T150000
DTEND;TZID=America/New_York:20221006T160000
DTSTAMP:20260423T062219
CREATED:20220923T194849Z
LAST-MODIFIED:20220923T194849Z
UID:42134-1665068400-1665072000@www.elderplan.org
SUMMARY:Cooking Show: Oatmeal Banana Breakfast Bars and Lentil Walnut Stuffed Peppers
DESCRIPTION:Quick and easy-to-follow cooking demonstrations of delicious and healthy recipes. \nSimply click on the link below to join. \nhttps://teams.microsoft.com/l/meetup-join/19%3ameeting_N2FmNzlmNDQtZGFkYi00MmU5LWI3YzgtOGYyM2VmNDkwYTlj%40thread.v2/0?context=%7b%22Tid%22%3a%2200e7ba7e-2434-4488-94c9-9fcda612f634%22%2c%22Oid%22%3a%22acd03333-9721-4ec7-9f18-54cfad37954e%22%7d \n 
URL:https://www.elderplan.org/event/cooking-show-oatmeal-banana-breakfast-bars-and-lentil-walnut-stuffed-peppers-4/
ATTACH;FMTTYPE=image/jpeg:https://elderplan.imgix.net/2021/04/Cooking.jpg?fm=pjpg
END:VEVENT
BEGIN:VEVENT
DTSTART;TZID=America/New_York:20221006T150000
DTEND;TZID=America/New_York:20221006T160000
DTSTAMP:20260423T062219
CREATED:20220923T194849Z
LAST-MODIFIED:20220923T194849Z
UID:41442-1665068400-1665072000@www.elderplan.org
SUMMARY:Cooking Show: Oatmeal Banana Breakfast Bars and Lentil Walnut Stuffed Peppers
DESCRIPTION:Quick and easy-to-follow cooking demonstrations of delicious and healthy recipes. \nSimply click on the link below to join. \nhttps://teams.microsoft.com/l/meetup-join/19%3ameeting_N2FmNzlmNDQtZGFkYi00MmU5LWI3YzgtOGYyM2VmNDkwYTlj%40thread.v2/0?context=%7b%22Tid%22%3a%2200e7ba7e-2434-4488-94c9-9fcda612f634%22%2c%22Oid%22%3a%22acd03333-9721-4ec7-9f18-54cfad37954e%22%7d \n 
URL:https://www.elderplan.org/event/cooking-show-oatmeal-banana-breakfast-bars-and-lentil-walnut-stuffed-peppers-3/
ATTACH;FMTTYPE=image/jpeg:https://elderplan.imgix.net/2021/04/Cooking.jpg?fm=pjpg
END:VEVENT
BEGIN:VEVENT
DTSTART;TZID=America/New_York:20221006T150000
DTEND;TZID=America/New_York:20221006T160000
DTSTAMP:20260423T062219
CREATED:20220923T234849Z
LAST-MODIFIED:20220923T234849Z
UID:42191-1665068400-1665072000@www.elderplan.org
SUMMARY:Cooking Show: Oatmeal Banana Breakfast Bars and Lentil Walnut Stuffed Peppers
DESCRIPTION:Quick and easy-to-follow cooking demonstrations of delicious and healthy recipes. \nSimply click on the link below to join. \nhttps://teams.microsoft.com/l/meetup-join/19%3ameeting_N2FmNzlmNDQtZGFkYi00MmU5LWI3YzgtOGYyM2VmNDkwYTlj%40thread.v2/0?context=%7b%22Tid%22%3a%2200e7ba7e-2434-4488-94c9-9fcda612f634%22%2c%22Oid%22%3a%22acd03333-9721-4ec7-9f18-54cfad37954e%22%7d \n 
URL:https://www.elderplan.org/event/cooking-show-oatmeal-banana-breakfast-bars-and-lentil-walnut-stuffed-peppers-2-3/
ATTACH;FMTTYPE=image/jpeg:https://elderplan.imgix.net/Cooking-1.jpg?fm=pjpg
END:VEVENT
BEGIN:VEVENT
DTSTART;TZID=America/New_York:20221006T150000
DTEND;TZID=America/New_York:20221006T160000
DTSTAMP:20260423T062219
CREATED:20220923T234849Z
LAST-MODIFIED:20220923T234849Z
UID:40983-1665068400-1665072000@www.elderplan.org
SUMMARY:Cooking Show: Oatmeal Banana Breakfast Bars and Lentil Walnut Stuffed Peppers
DESCRIPTION:Quick and easy-to-follow cooking demonstrations of delicious and healthy recipes. \nSimply click on the link below to join. \nhttps://teams.microsoft.com/l/meetup-join/19%3ameeting_N2FmNzlmNDQtZGFkYi00MmU5LWI3YzgtOGYyM2VmNDkwYTlj%40thread.v2/0?context=%7b%22Tid%22%3a%2200e7ba7e-2434-4488-94c9-9fcda612f634%22%2c%22Oid%22%3a%22acd03333-9721-4ec7-9f18-54cfad37954e%22%7d \n 
URL:https://www.elderplan.org/event/cooking-show-oatmeal-banana-breakfast-bars-and-lentil-walnut-stuffed-peppers-2/
ATTACH;FMTTYPE=image/jpeg:https://elderplan.imgix.net/Cooking.jpg?fm=pjpg
END:VEVENT
BEGIN:VEVENT
DTSTART;TZID=America/New_York:20221006T150000
DTEND;TZID=America/New_York:20221006T160000
DTSTAMP:20260423T062219
CREATED:20220923T234849Z
LAST-MODIFIED:20220923T234849Z
UID:42660-1665068400-1665072000@www.elderplan.org
SUMMARY:Cooking Show: Oatmeal Banana Breakfast Bars and Lentil Walnut Stuffed Peppers
DESCRIPTION:Quick and easy-to-follow cooking demonstrations of delicious and healthy recipes. \nSimply click on the link below to join. \nhttps://teams.microsoft.com/l/meetup-join/19%3ameeting_N2FmNzlmNDQtZGFkYi00MmU5LWI3YzgtOGYyM2VmNDkwYTlj%40thread.v2/0?context=%7b%22Tid%22%3a%2200e7ba7e-2434-4488-94c9-9fcda612f634%22%2c%22Oid%22%3a%22acd03333-9721-4ec7-9f18-54cfad37954e%22%7d \n 
URL:https://www.elderplan.org/event/cooking-show-oatmeal-banana-breakfast-bars-and-lentil-walnut-stuffed-peppers-2-4/
ATTACH;FMTTYPE=image/jpeg:https://elderplan.imgix.net/Cooking-1.jpg?fm=pjpg
END:VEVENT
BEGIN:VEVENT
DTSTART;TZID=America/New_York:20221006T150000
DTEND;TZID=America/New_York:20221006T160000
DTSTAMP:20260423T062219
CREATED:20220923T234849Z
LAST-MODIFIED:20220923T234849Z
UID:41460-1665068400-1665072000@www.elderplan.org
SUMMARY:Cooking Show: Oatmeal Banana Breakfast Bars and Lentil Walnut Stuffed Peppers
DESCRIPTION:Quick and easy-to-follow cooking demonstrations of delicious and healthy recipes. \nSimply click on the link below to join. \nhttps://teams.microsoft.com/l/meetup-join/19%3ameeting_N2FmNzlmNDQtZGFkYi00MmU5LWI3YzgtOGYyM2VmNDkwYTlj%40thread.v2/0?context=%7b%22Tid%22%3a%2200e7ba7e-2434-4488-94c9-9fcda612f634%22%2c%22Oid%22%3a%22acd03333-9721-4ec7-9f18-54cfad37954e%22%7d \n 
URL:https://www.elderplan.org/event/cooking-show-oatmeal-banana-breakfast-bars-and-lentil-walnut-stuffed-peppers-2-2/
ATTACH;FMTTYPE=image/jpeg:https://elderplan.imgix.net/Cooking-1.jpg?fm=pjpg
END:VEVENT
BEGIN:VEVENT
DTSTART;TZID=America/New_York:20221011T100000
DTEND;TZID=America/New_York:20221011T110000
DTSTAMP:20260423T062219
CREATED:20220923T195043Z
LAST-MODIFIED:20220923T195043Z
UID:42612-1665482400-1665486000@www.elderplan.org
SUMMARY:Jazz class
DESCRIPTION:Learn dance terminology\, watch clips from select musicals and learn the choreography from the musical in a modified way. \nSimply click on the link below to join. \nhttps://teams.microsoft.com/l/meetup-join/19%3ameeting_NzY3NmM4ZGYtYzY2MC00N2FmLWE2OTgtMzJiNDk1MjhlNjZk%40thread.v2/0?context=%7b%22Tid%22%3a%2200e7ba7e-2434-4488-94c9-9fcda612f634%22%2c%22Oid%22%3a%224b2baded-5af2-495e-a7ba-e23c64d64169%22%7d \n 
URL:https://www.elderplan.org/event/jazz-class-8-5/
ATTACH;FMTTYPE=image/jpeg:https://elderplan.imgix.net/2021/04/Exercise-1-scaled.jpg?fm=pjpg
END:VEVENT
BEGIN:VEVENT
DTSTART;TZID=America/New_York:20221011T100000
DTEND;TZID=America/New_York:20221011T110000
DTSTAMP:20260423T062219
CREATED:20220923T195043Z
LAST-MODIFIED:20220923T195043Z
UID:41443-1665482400-1665486000@www.elderplan.org
SUMMARY:Jazz class
DESCRIPTION:Learn dance terminology\, watch clips from select musicals and learn the choreography from the musical in a modified way. \nSimply click on the link below to join. \nhttps://teams.microsoft.com/l/meetup-join/19%3ameeting_NzY3NmM4ZGYtYzY2MC00N2FmLWE2OTgtMzJiNDk1MjhlNjZk%40thread.v2/0?context=%7b%22Tid%22%3a%2200e7ba7e-2434-4488-94c9-9fcda612f634%22%2c%22Oid%22%3a%224b2baded-5af2-495e-a7ba-e23c64d64169%22%7d \n 
URL:https://www.elderplan.org/event/jazz-class-8-3/
ATTACH;FMTTYPE=image/jpeg:https://elderplan.imgix.net/2021/04/Exercise-1-scaled.jpg?fm=pjpg
END:VEVENT
BEGIN:VEVENT
DTSTART;TZID=America/New_York:20221011T100000
DTEND;TZID=America/New_York:20221011T110000
DTSTAMP:20260423T062219
CREATED:20220923T195043Z
LAST-MODIFIED:20220923T195043Z
UID:42138-1665482400-1665486000@www.elderplan.org
SUMMARY:Jazz class
DESCRIPTION:Learn dance terminology\, watch clips from select musicals and learn the choreography from the musical in a modified way. \nSimply click on the link below to join. \nhttps://teams.microsoft.com/l/meetup-join/19%3ameeting_NzY3NmM4ZGYtYzY2MC00N2FmLWE2OTgtMzJiNDk1MjhlNjZk%40thread.v2/0?context=%7b%22Tid%22%3a%2200e7ba7e-2434-4488-94c9-9fcda612f634%22%2c%22Oid%22%3a%224b2baded-5af2-495e-a7ba-e23c64d64169%22%7d \n 
URL:https://www.elderplan.org/event/jazz-class-8-4/
ATTACH;FMTTYPE=image/jpeg:https://elderplan.imgix.net/2021/04/Exercise-1-scaled.jpg?fm=pjpg
END:VEVENT
BEGIN:VEVENT
DTSTART;TZID=America/New_York:20221011T100000
DTEND;TZID=America/New_York:20221011T110000
DTSTAMP:20260423T062219
CREATED:20220923T195043Z
LAST-MODIFIED:20220923T195435Z
UID:16592-1665482400-1665486000@www.elderplan.org
SUMMARY:Jazz class
DESCRIPTION:Learn dance terminology\, watch clips from select musicals and learn the choreography from the musical in a modified way. \nSimply click on the link below to join. \nhttps://teams.microsoft.com/l/meetup-join/19%3ameeting_NzY3NmM4ZGYtYzY2MC00N2FmLWE2OTgtMzJiNDk1MjhlNjZk%40thread.v2/0?context=%7b%22Tid%22%3a%2200e7ba7e-2434-4488-94c9-9fcda612f634%22%2c%22Oid%22%3a%224b2baded-5af2-495e-a7ba-e23c64d64169%22%7d \n 
URL:https://www.elderplan.org/event/jazz-class-8/
ATTACH;FMTTYPE=image/jpeg:https://elderplan.imgix.net/2021/04/Exercise-1-scaled.jpg?fm=pjpg
END:VEVENT
BEGIN:VEVENT
DTSTART;TZID=America/New_York:20221011T100000
DTEND;TZID=America/New_York:20221011T110000
DTSTAMP:20260423T062219
CREATED:20220923T235043Z
LAST-MODIFIED:20220923T235043Z
UID:42194-1665482400-1665486000@www.elderplan.org
SUMMARY:Jazz class
DESCRIPTION:Learn dance terminology\, watch clips from select musicals and learn the choreography from the musical in a modified way. \nSimply click on the link below to join. \nhttps://teams.microsoft.com/l/meetup-join/19%3ameeting_NzY3NmM4ZGYtYzY2MC00N2FmLWE2OTgtMzJiNDk1MjhlNjZk%40thread.v2/0?context=%7b%22Tid%22%3a%2200e7ba7e-2434-4488-94c9-9fcda612f634%22%2c%22Oid%22%3a%224b2baded-5af2-495e-a7ba-e23c64d64169%22%7d \n 
URL:https://www.elderplan.org/event/jazz-class-8-2-3/
ATTACH;FMTTYPE=image/jpeg:https://elderplan.imgix.net/Exercise-1-scaled-1-1.jpg?fm=pjpg
END:VEVENT
BEGIN:VEVENT
DTSTART;TZID=America/New_York:20221011T100000
DTEND;TZID=America/New_York:20221011T110000
DTSTAMP:20260423T062219
CREATED:20220923T235043Z
LAST-MODIFIED:20220923T235043Z
UID:40984-1665482400-1665486000@www.elderplan.org
SUMMARY:Jazz class
DESCRIPTION:Learn dance terminology\, watch clips from select musicals and learn the choreography from the musical in a modified way. \nSimply click on the link below to join. \nhttps://teams.microsoft.com/l/meetup-join/19%3ameeting_NzY3NmM4ZGYtYzY2MC00N2FmLWE2OTgtMzJiNDk1MjhlNjZk%40thread.v2/0?context=%7b%22Tid%22%3a%2200e7ba7e-2434-4488-94c9-9fcda612f634%22%2c%22Oid%22%3a%224b2baded-5af2-495e-a7ba-e23c64d64169%22%7d \n 
URL:https://www.elderplan.org/event/jazz-class-8-2/
ATTACH;FMTTYPE=image/jpeg:https://elderplan.imgix.net/Exercise-1-scaled-1.jpg?fm=pjpg
END:VEVENT
BEGIN:VEVENT
DTSTART;TZID=America/New_York:20221011T100000
DTEND;TZID=America/New_York:20221011T110000
DTSTAMP:20260423T062219
CREATED:20220923T235043Z
LAST-MODIFIED:20220923T235043Z
UID:42662-1665482400-1665486000@www.elderplan.org
SUMMARY:Jazz class
DESCRIPTION:Learn dance terminology\, watch clips from select musicals and learn the choreography from the musical in a modified way. \nSimply click on the link below to join. \nhttps://teams.microsoft.com/l/meetup-join/19%3ameeting_NzY3NmM4ZGYtYzY2MC00N2FmLWE2OTgtMzJiNDk1MjhlNjZk%40thread.v2/0?context=%7b%22Tid%22%3a%2200e7ba7e-2434-4488-94c9-9fcda612f634%22%2c%22Oid%22%3a%224b2baded-5af2-495e-a7ba-e23c64d64169%22%7d \n 
URL:https://www.elderplan.org/event/jazz-class-8-2-4/
ATTACH;FMTTYPE=image/jpeg:https://elderplan.imgix.net/Exercise-1-scaled-1-1.jpg?fm=pjpg
END:VEVENT
BEGIN:VEVENT
DTSTART;TZID=America/New_York:20221011T100000
DTEND;TZID=America/New_York:20221011T110000
DTSTAMP:20260423T062219
CREATED:20220923T235043Z
LAST-MODIFIED:20220923T235043Z
UID:33308-1665482400-1665486000@www.elderplan.org
SUMMARY:Jazz class
DESCRIPTION:Learn dance terminology\, watch clips from select musicals and learn the choreography from the musical in a modified way. \nSimply click on the link below to join. \nhttps://teams.microsoft.com/l/meetup-join/19%3ameeting_NzY3NmM4ZGYtYzY2MC00N2FmLWE2OTgtMzJiNDk1MjhlNjZk%40thread.v2/0?context=%7b%22Tid%22%3a%2200e7ba7e-2434-4488-94c9-9fcda612f634%22%2c%22Oid%22%3a%224b2baded-5af2-495e-a7ba-e23c64d64169%22%7d \n 
URL:https://www.elderplan.org/event/jazz-class-8-2-2/
ATTACH;FMTTYPE=image/jpeg:https://elderplan.imgix.net/Exercise-1-scaled-1-1.jpg?fm=pjpg
END:VEVENT
BEGIN:VEVENT
DTSTART;TZID=America/New_York:20221013T150000
DTEND;TZID=America/New_York:20221013T160000
DTSTAMP:20260423T062219
CREATED:20220923T195809Z
LAST-MODIFIED:20220923T195809Z
UID:16594-1665673200-1665676800@www.elderplan.org
SUMMARY:Tom Kopec Concert
DESCRIPTION:Tom Kopec known professionally as Tommy K is a Professional Keyboardist and Singer based out of Long Island\, NY. He has performed for many years as a soloist and with several bands performing at numerous venues throughout the NY tri-state area. His solo repertoire consists of everyone’s favorites including swing\, oldies\, pop\, rock etc. from the 50’s\, 60’s\, 70’s\, 80’s throughout the decades. \nSimply click on the link below to join. \nhttps://teams.microsoft.com/l/meetup-join/19%3ameeting_MTUxYjkxOTYtOWI1MC00Y2VhLTkxNjAtZTYyN2JmYzM5NjY4%40thread.v2/0?context=%7b%22Tid%22%3a%2200e7ba7e-2434-4488-94c9-9fcda612f634%22%2c%22Oid%22%3a%22acd03333-9721-4ec7-9f18-54cfad37954e%22%7d
URL:https://www.elderplan.org/event/tom-kopec-concert/
ATTACH;FMTTYPE=image/jpeg:https://elderplan.imgix.net/2021/03/Music.jpg?fm=pjpg
END:VEVENT
BEGIN:VEVENT
DTSTART;TZID=America/New_York:20221013T150000
DTEND;TZID=America/New_York:20221013T160000
DTSTAMP:20260423T062219
CREATED:20220923T195809Z
LAST-MODIFIED:20220923T195809Z
UID:42614-1665673200-1665676800@www.elderplan.org
SUMMARY:Tom Kopec Concert
DESCRIPTION:Tom Kopec known professionally as Tommy K is a Professional Keyboardist and Singer based out of Long Island\, NY. He has performed for many years as a soloist and with several bands performing at numerous venues throughout the NY tri-state area. His solo repertoire consists of everyone’s favorites including swing\, oldies\, pop\, rock etc. from the 50’s\, 60’s\, 70’s\, 80’s throughout the decades. \nSimply click on the link below to join. \nhttps://teams.microsoft.com/l/meetup-join/19%3ameeting_MTUxYjkxOTYtOWI1MC00Y2VhLTkxNjAtZTYyN2JmYzM5NjY4%40thread.v2/0?context=%7b%22Tid%22%3a%2200e7ba7e-2434-4488-94c9-9fcda612f634%22%2c%22Oid%22%3a%22acd03333-9721-4ec7-9f18-54cfad37954e%22%7d
URL:https://www.elderplan.org/event/tom-kopec-concert-15/
ATTACH;FMTTYPE=image/jpeg:https://elderplan.imgix.net/2021/03/Music.jpg?fm=pjpg
END:VEVENT
BEGIN:VEVENT
DTSTART;TZID=America/New_York:20221013T150000
DTEND;TZID=America/New_York:20221013T160000
DTSTAMP:20260423T062219
CREATED:20220923T195809Z
LAST-MODIFIED:20220923T195809Z
UID:42140-1665673200-1665676800@www.elderplan.org
SUMMARY:Tom Kopec Concert
DESCRIPTION:Tom Kopec known professionally as Tommy K is a Professional Keyboardist and Singer based out of Long Island\, NY. He has performed for many years as a soloist and with several bands performing at numerous venues throughout the NY tri-state area. His solo repertoire consists of everyone’s favorites including swing\, oldies\, pop\, rock etc. from the 50’s\, 60’s\, 70’s\, 80’s throughout the decades. \nSimply click on the link below to join. \nhttps://teams.microsoft.com/l/meetup-join/19%3ameeting_MTUxYjkxOTYtOWI1MC00Y2VhLTkxNjAtZTYyN2JmYzM5NjY4%40thread.v2/0?context=%7b%22Tid%22%3a%2200e7ba7e-2434-4488-94c9-9fcda612f634%22%2c%22Oid%22%3a%22acd03333-9721-4ec7-9f18-54cfad37954e%22%7d
URL:https://www.elderplan.org/event/tom-kopec-concert-14/
ATTACH;FMTTYPE=image/jpeg:https://elderplan.imgix.net/2021/03/Music.jpg?fm=pjpg
END:VEVENT
BEGIN:VEVENT
DTSTART;TZID=America/New_York:20221013T150000
DTEND;TZID=America/New_York:20221013T160000
DTSTAMP:20260423T062219
CREATED:20220923T195809Z
LAST-MODIFIED:20220923T195809Z
UID:41444-1665673200-1665676800@www.elderplan.org
SUMMARY:Tom Kopec Concert
DESCRIPTION:Tom Kopec known professionally as Tommy K is a Professional Keyboardist and Singer based out of Long Island\, NY. He has performed for many years as a soloist and with several bands performing at numerous venues throughout the NY tri-state area. His solo repertoire consists of everyone’s favorites including swing\, oldies\, pop\, rock etc. from the 50’s\, 60’s\, 70’s\, 80’s throughout the decades. \nSimply click on the link below to join. \nhttps://teams.microsoft.com/l/meetup-join/19%3ameeting_MTUxYjkxOTYtOWI1MC00Y2VhLTkxNjAtZTYyN2JmYzM5NjY4%40thread.v2/0?context=%7b%22Tid%22%3a%2200e7ba7e-2434-4488-94c9-9fcda612f634%22%2c%22Oid%22%3a%22acd03333-9721-4ec7-9f18-54cfad37954e%22%7d
URL:https://www.elderplan.org/event/tom-kopec-concert-13/
ATTACH;FMTTYPE=image/jpeg:https://elderplan.imgix.net/2021/03/Music.jpg?fm=pjpg
END:VEVENT
BEGIN:VEVENT
DTSTART;TZID=America/New_York:20221013T150000
DTEND;TZID=America/New_York:20221013T160000
DTSTAMP:20260423T062219
CREATED:20220923T235809Z
LAST-MODIFIED:20220923T235809Z
UID:41461-1665673200-1665676800@www.elderplan.org
SUMMARY:Tom Kopec Concert
DESCRIPTION:Tom Kopec known professionally as Tommy K is a Professional Keyboardist and Singer based out of Long Island\, NY. He has performed for many years as a soloist and with several bands performing at numerous venues throughout the NY tri-state area. His solo repertoire consists of everyone’s favorites including swing\, oldies\, pop\, rock etc. from the 50’s\, 60’s\, 70’s\, 80’s throughout the decades. \nSimply click on the link below to join. \nhttps://teams.microsoft.com/l/meetup-join/19%3ameeting_MTUxYjkxOTYtOWI1MC00Y2VhLTkxNjAtZTYyN2JmYzM5NjY4%40thread.v2/0?context=%7b%22Tid%22%3a%2200e7ba7e-2434-4488-94c9-9fcda612f634%22%2c%22Oid%22%3a%22acd03333-9721-4ec7-9f18-54cfad37954e%22%7d
URL:https://www.elderplan.org/event/tom-kopec-concert-9-2/
ATTACH;FMTTYPE=image/jpeg:https://elderplan.imgix.net/Music-1.jpg?fm=pjpg
END:VEVENT
BEGIN:VEVENT
DTSTART;TZID=America/New_York:20221013T150000
DTEND;TZID=America/New_York:20221013T160000
DTSTAMP:20260423T062219
CREATED:20220923T235809Z
LAST-MODIFIED:20220923T235809Z
UID:40985-1665673200-1665676800@www.elderplan.org
SUMMARY:Tom Kopec Concert
DESCRIPTION:Tom Kopec known professionally as Tommy K is a Professional Keyboardist and Singer based out of Long Island\, NY. He has performed for many years as a soloist and with several bands performing at numerous venues throughout the NY tri-state area. His solo repertoire consists of everyone’s favorites including swing\, oldies\, pop\, rock etc. from the 50’s\, 60’s\, 70’s\, 80’s throughout the decades. \nSimply click on the link below to join. \nhttps://teams.microsoft.com/l/meetup-join/19%3ameeting_MTUxYjkxOTYtOWI1MC00Y2VhLTkxNjAtZTYyN2JmYzM5NjY4%40thread.v2/0?context=%7b%22Tid%22%3a%2200e7ba7e-2434-4488-94c9-9fcda612f634%22%2c%22Oid%22%3a%22acd03333-9721-4ec7-9f18-54cfad37954e%22%7d
URL:https://www.elderplan.org/event/tom-kopec-concert-12/
ATTACH;FMTTYPE=image/jpeg:https://elderplan.imgix.net/Music.jpg?fm=pjpg
END:VEVENT
END:VCALENDAR