BEGIN:VCALENDAR
VERSION:2.0
PRODID:-//Elderplan - ECPv6.15.20//NONSGML v1.0//EN
CALSCALE:GREGORIAN
METHOD:PUBLISH
X-WR-CALNAME:Elderplan
X-ORIGINAL-URL:https://www.elderplan.org
X-WR-CALDESC:Events for Elderplan
REFRESH-INTERVAL;VALUE=DURATION:PT1H
X-Robots-Tag:noindex
X-PUBLISHED-TTL:PT1H
BEGIN:VTIMEZONE
TZID:America/New_York
BEGIN:DAYLIGHT
TZOFFSETFROM:-0500
TZOFFSETTO:-0400
TZNAME:EDT
DTSTART:20230312T070000
END:DAYLIGHT
BEGIN:STANDARD
TZOFFSETFROM:-0400
TZOFFSETTO:-0500
TZNAME:EST
DTSTART:20231105T060000
END:STANDARD
BEGIN:DAYLIGHT
TZOFFSETFROM:-0500
TZOFFSETTO:-0400
TZNAME:EDT
DTSTART:20240310T070000
END:DAYLIGHT
BEGIN:STANDARD
TZOFFSETFROM:-0400
TZOFFSETTO:-0500
TZNAME:EST
DTSTART:20241103T060000
END:STANDARD
BEGIN:DAYLIGHT
TZOFFSETFROM:-0500
TZOFFSETTO:-0400
TZNAME:EDT
DTSTART:20250309T070000
END:DAYLIGHT
BEGIN:STANDARD
TZOFFSETFROM:-0400
TZOFFSETTO:-0500
TZNAME:EST
DTSTART:20251102T060000
END:STANDARD
END:VTIMEZONE
BEGIN:VEVENT
DTSTART;TZID=America/New_York:20240702T100000
DTEND;TZID=America/New_York:20240702T110000
DTSTAMP:20260422T150932
CREATED:20240628T145529Z
LAST-MODIFIED:20240628T145529Z
UID:41937-1719914400-1719918000@www.elderplan.org
SUMMARY:Guided Meditation
DESCRIPTION:The class will provide a sense of calm\, peace\, and balance that can benefit your emotional well-being and overall health. \nSimply click here to join
URL:https://www.elderplan.org/event/guided-meditation-20-3/
ATTACH;FMTTYPE=image/jpeg:https://elderplan.imgix.net/2021/04/Meditation.jpg?fm=pjpg
END:VEVENT
BEGIN:VEVENT
DTSTART;TZID=America/New_York:20240702T100000
DTEND;TZID=America/New_York:20240702T110000
DTSTAMP:20260422T150932
CREATED:20240628T145529Z
LAST-MODIFIED:20240628T145529Z
UID:42886-1719914400-1719918000@www.elderplan.org
SUMMARY:Guided Meditation
DESCRIPTION:The class will provide a sense of calm\, peace\, and balance that can benefit your emotional well-being and overall health. \nSimply click here to join
URL:https://www.elderplan.org/event/guided-meditation-20-4/
ATTACH;FMTTYPE=image/jpeg:https://elderplan.imgix.net/2021/04/Meditation.jpg?fm=pjpg
END:VEVENT
BEGIN:VEVENT
DTSTART;TZID=America/New_York:20240702T100000
DTEND;TZID=America/New_York:20240702T110000
DTSTAMP:20260422T150932
CREATED:20240628T145529Z
LAST-MODIFIED:20240628T145529Z
UID:43285-1719914400-1719918000@www.elderplan.org
SUMMARY:Guided Meditation
DESCRIPTION:The class will provide a sense of calm\, peace\, and balance that can benefit your emotional well-being and overall health. \nSimply click here to join
URL:https://www.elderplan.org/event/guided-meditation-20-5/
ATTACH;FMTTYPE=image/jpeg:https://elderplan.imgix.net/2021/04/Meditation.jpg?fm=pjpg
END:VEVENT
BEGIN:VEVENT
DTSTART;TZID=America/New_York:20240702T100000
DTEND;TZID=America/New_York:20240702T110000
DTSTAMP:20260422T150932
CREATED:20240628T145529Z
LAST-MODIFIED:20240628T145529Z
UID:24812-1719914400-1719918000@www.elderplan.org
SUMMARY:Guided Meditation
DESCRIPTION:The class will provide a sense of calm\, peace\, and balance that can benefit your emotional well-being and overall health. \nSimply click here to join
URL:https://www.elderplan.org/event/guided-meditation-20/
ATTACH;FMTTYPE=image/jpeg:https://elderplan.imgix.net/2021/04/Meditation.jpg?fm=pjpg
END:VEVENT
BEGIN:VEVENT
DTSTART;TZID=America/New_York:20240702T100000
DTEND;TZID=America/New_York:20240702T110000
DTSTAMP:20260422T150932
CREATED:20240628T185529Z
LAST-MODIFIED:20240628T185529Z
UID:33495-1719914400-1719918000@www.elderplan.org
SUMMARY:Guided Meditation
DESCRIPTION:The class will provide a sense of calm\, peace\, and balance that can benefit your emotional well-being and overall health. \nSimply click here to join
URL:https://www.elderplan.org/event/guided-meditation-20-2-2/
ATTACH;FMTTYPE=image/jpeg:https://elderplan.imgix.net/Meditation-1.jpg?fm=pjpg
END:VEVENT
BEGIN:VEVENT
DTSTART;TZID=America/New_York:20240702T100000
DTEND;TZID=America/New_York:20240702T110000
DTSTAMP:20260422T150932
CREATED:20240628T185529Z
LAST-MODIFIED:20240628T185529Z
UID:43300-1719914400-1719918000@www.elderplan.org
SUMMARY:Guided Meditation
DESCRIPTION:The class will provide a sense of calm\, peace\, and balance that can benefit your emotional well-being and overall health. \nSimply click here to join
URL:https://www.elderplan.org/event/guided-meditation-20-2-4/
ATTACH;FMTTYPE=image/jpeg:https://elderplan.imgix.net/Meditation-1.jpg?fm=pjpg
END:VEVENT
BEGIN:VEVENT
DTSTART;TZID=America/New_York:20240702T100000
DTEND;TZID=America/New_York:20240702T110000
DTSTAMP:20260422T150932
CREATED:20240628T185529Z
LAST-MODIFIED:20240628T185529Z
UID:42913-1719914400-1719918000@www.elderplan.org
SUMMARY:Guided Meditation
DESCRIPTION:The class will provide a sense of calm\, peace\, and balance that can benefit your emotional well-being and overall health. \nSimply click here to join
URL:https://www.elderplan.org/event/guided-meditation-20-2-3/
ATTACH;FMTTYPE=image/jpeg:https://elderplan.imgix.net/Meditation-1.jpg?fm=pjpg
END:VEVENT
BEGIN:VEVENT
DTSTART;TZID=America/New_York:20240702T100000
DTEND;TZID=America/New_York:20240702T110000
DTSTAMP:20260422T150933
CREATED:20240628T185529Z
LAST-MODIFIED:20240628T185529Z
UID:41173-1719914400-1719918000@www.elderplan.org
SUMMARY:Guided Meditation
DESCRIPTION:The class will provide a sense of calm\, peace\, and balance that can benefit your emotional well-being and overall health. \nSimply click here to join
URL:https://www.elderplan.org/event/guided-meditation-20-2/
ATTACH;FMTTYPE=image/jpeg:https://elderplan.imgix.net/Meditation.jpg?fm=pjpg
END:VEVENT
BEGIN:VEVENT
DTSTART;TZID=America/New_York:20240709T100000
DTEND;TZID=America/New_York:20240709T110000
DTSTAMP:20260422T150933
CREATED:20240628T150042Z
LAST-MODIFIED:20240628T150042Z
UID:24814-1720519200-1720522800@www.elderplan.org
SUMMARY:Virtual games - Building a Storyline
DESCRIPTION:Building a storyline is one of the oldest and most fun team-building activities. Play a game in which the entire team creates a story together. \nSimply click here to join.
URL:https://www.elderplan.org/event/virtual-games-building-a-storyline/
ATTACH;FMTTYPE=image/jpeg:https://elderplan.imgix.net/2022/01/VirtualGames.jpg?fm=pjpg
END:VEVENT
BEGIN:VEVENT
DTSTART;TZID=America/New_York:20240709T100000
DTEND;TZID=America/New_York:20240709T110000
DTSTAMP:20260422T150933
CREATED:20240628T150042Z
LAST-MODIFIED:20240628T150042Z
UID:41939-1720519200-1720522800@www.elderplan.org
SUMMARY:Virtual games - Building a Storyline
DESCRIPTION:Building a storyline is one of the oldest and most fun team-building activities. Play a game in which the entire team creates a story together. \nSimply click here to join.
URL:https://www.elderplan.org/event/virtual-games-building-a-storyline-3/
ATTACH;FMTTYPE=image/jpeg:https://elderplan.imgix.net/2022/01/VirtualGames.jpg?fm=pjpg
END:VEVENT
BEGIN:VEVENT
DTSTART;TZID=America/New_York:20240709T100000
DTEND;TZID=America/New_York:20240709T110000
DTSTAMP:20260422T150933
CREATED:20240628T150042Z
LAST-MODIFIED:20240628T150042Z
UID:42888-1720519200-1720522800@www.elderplan.org
SUMMARY:Virtual games - Building a Storyline
DESCRIPTION:Building a storyline is one of the oldest and most fun team-building activities. Play a game in which the entire team creates a story together. \nSimply click here to join.
URL:https://www.elderplan.org/event/virtual-games-building-a-storyline-4/
ATTACH;FMTTYPE=image/jpeg:https://elderplan.imgix.net/2022/01/VirtualGames.jpg?fm=pjpg
END:VEVENT
BEGIN:VEVENT
DTSTART;TZID=America/New_York:20240709T100000
DTEND;TZID=America/New_York:20240709T110000
DTSTAMP:20260422T150933
CREATED:20240628T150042Z
LAST-MODIFIED:20240628T150042Z
UID:43286-1720519200-1720522800@www.elderplan.org
SUMMARY:Virtual games - Building a Storyline
DESCRIPTION:Building a storyline is one of the oldest and most fun team-building activities. Play a game in which the entire team creates a story together. \nSimply click here to join.
URL:https://www.elderplan.org/event/virtual-games-building-a-storyline-5/
ATTACH;FMTTYPE=image/jpeg:https://elderplan.imgix.net/2022/01/VirtualGames.jpg?fm=pjpg
END:VEVENT
BEGIN:VEVENT
DTSTART;TZID=America/New_York:20240709T100000
DTEND;TZID=America/New_York:20240709T110000
DTSTAMP:20260422T150933
CREATED:20240628T190042Z
LAST-MODIFIED:20240628T190042Z
UID:43301-1720519200-1720522800@www.elderplan.org
SUMMARY:Virtual games - Building a Storyline
DESCRIPTION:Building a storyline is one of the oldest and most fun team-building activities. Play a game in which the entire team creates a story together. \nSimply click here to join.
URL:https://www.elderplan.org/event/virtual-games-building-a-storyline-2-4/
ATTACH;FMTTYPE=image/jpeg:https://elderplan.imgix.net/VirtualGames-1.jpg?fm=pjpg
END:VEVENT
BEGIN:VEVENT
DTSTART;TZID=America/New_York:20240709T100000
DTEND;TZID=America/New_York:20240709T110000
DTSTAMP:20260422T150933
CREATED:20240628T190042Z
LAST-MODIFIED:20240628T190042Z
UID:42915-1720519200-1720522800@www.elderplan.org
SUMMARY:Virtual games - Building a Storyline
DESCRIPTION:Building a storyline is one of the oldest and most fun team-building activities. Play a game in which the entire team creates a story together. \nSimply click here to join.
URL:https://www.elderplan.org/event/virtual-games-building-a-storyline-2-3/
ATTACH;FMTTYPE=image/jpeg:https://elderplan.imgix.net/VirtualGames-1.jpg?fm=pjpg
END:VEVENT
BEGIN:VEVENT
DTSTART;TZID=America/New_York:20240709T100000
DTEND;TZID=America/New_York:20240709T110000
DTSTAMP:20260422T150933
CREATED:20240628T190042Z
LAST-MODIFIED:20240628T190042Z
UID:41174-1720519200-1720522800@www.elderplan.org
SUMMARY:Virtual games - Building a Storyline
DESCRIPTION:Building a storyline is one of the oldest and most fun team-building activities. Play a game in which the entire team creates a story together. \nSimply click here to join.
URL:https://www.elderplan.org/event/virtual-games-building-a-storyline-2/
ATTACH;FMTTYPE=image/jpeg:https://elderplan.imgix.net/VirtualGames.jpg?fm=pjpg
END:VEVENT
BEGIN:VEVENT
DTSTART;TZID=America/New_York:20240709T100000
DTEND;TZID=America/New_York:20240709T110000
DTSTAMP:20260422T150933
CREATED:20240628T190042Z
LAST-MODIFIED:20240628T190042Z
UID:33496-1720519200-1720522800@www.elderplan.org
SUMMARY:Virtual games - Building a Storyline
DESCRIPTION:Building a storyline is one of the oldest and most fun team-building activities. Play a game in which the entire team creates a story together. \nSimply click here to join.
URL:https://www.elderplan.org/event/virtual-games-building-a-storyline-2-2/
ATTACH;FMTTYPE=image/jpeg:https://elderplan.imgix.net/VirtualGames-1.jpg?fm=pjpg
END:VEVENT
BEGIN:VEVENT
DTSTART;TZID=America/New_York:20240711T150000
DTEND;TZID=America/New_York:20240711T160000
DTSTAMP:20260422T150933
CREATED:20240628T150356Z
LAST-MODIFIED:20240628T150356Z
UID:41942-1720710000-1720713600@www.elderplan.org
SUMMARY:Maritri Garrett Concert
DESCRIPTION:Maritri is a multi-instrumentalist\, singer\, and composer from Southern California. She lived in Midwood\, Brooklyn\, for twenty years and is classically trained. She also performs jazz and folk music. \nSimply click here to join.
URL:https://www.elderplan.org/event/maritri-garrett-concert-7-3/
ATTACH;FMTTYPE=image/jpeg:https://elderplan.imgix.net/2021/03/Music.jpg?fm=pjpg
END:VEVENT
BEGIN:VEVENT
DTSTART;TZID=America/New_York:20240711T150000
DTEND;TZID=America/New_York:20240711T160000
DTSTAMP:20260422T150933
CREATED:20240628T150356Z
LAST-MODIFIED:20240628T150356Z
UID:24816-1720710000-1720713600@www.elderplan.org
SUMMARY:Maritri Garrett Concert
DESCRIPTION:Maritri is a multi-instrumentalist\, singer\, and composer from Southern California. She lived in Midwood\, Brooklyn\, for twenty years and is classically trained. She also performs jazz and folk music. \nSimply click here to join.
URL:https://www.elderplan.org/event/maritri-garrett-concert-7/
ATTACH;FMTTYPE=image/jpeg:https://elderplan.imgix.net/2021/03/Music.jpg?fm=pjpg
END:VEVENT
BEGIN:VEVENT
DTSTART;TZID=America/New_York:20240711T150000
DTEND;TZID=America/New_York:20240711T160000
DTSTAMP:20260422T150933
CREATED:20240628T150356Z
LAST-MODIFIED:20240628T150356Z
UID:42890-1720710000-1720713600@www.elderplan.org
SUMMARY:Maritri Garrett Concert
DESCRIPTION:Maritri is a multi-instrumentalist\, singer\, and composer from Southern California. She lived in Midwood\, Brooklyn\, for twenty years and is classically trained. She also performs jazz and folk music. \nSimply click here to join.
URL:https://www.elderplan.org/event/maritri-garrett-concert-7-4/
ATTACH;FMTTYPE=image/jpeg:https://elderplan.imgix.net/2021/03/Music.jpg?fm=pjpg
END:VEVENT
BEGIN:VEVENT
DTSTART;TZID=America/New_York:20240711T150000
DTEND;TZID=America/New_York:20240711T160000
DTSTAMP:20260422T150933
CREATED:20240628T150356Z
LAST-MODIFIED:20240628T150356Z
UID:43287-1720710000-1720713600@www.elderplan.org
SUMMARY:Maritri Garrett Concert
DESCRIPTION:Maritri is a multi-instrumentalist\, singer\, and composer from Southern California. She lived in Midwood\, Brooklyn\, for twenty years and is classically trained. She also performs jazz and folk music. \nSimply click here to join.
URL:https://www.elderplan.org/event/maritri-garrett-concert-7-5/
ATTACH;FMTTYPE=image/jpeg:https://elderplan.imgix.net/2021/03/Music.jpg?fm=pjpg
END:VEVENT
BEGIN:VEVENT
DTSTART;TZID=America/New_York:20240711T150000
DTEND;TZID=America/New_York:20240711T160000
DTSTAMP:20260422T150933
CREATED:20240628T190356Z
LAST-MODIFIED:20240628T190356Z
UID:43302-1720710000-1720713600@www.elderplan.org
SUMMARY:Maritri Garrett Concert
DESCRIPTION:Maritri is a multi-instrumentalist\, singer\, and composer from Southern California. She lived in Midwood\, Brooklyn\, for twenty years and is classically trained. She also performs jazz and folk music. \nSimply click here to join.
URL:https://www.elderplan.org/event/maritri-garrett-concert-7-2-4/
ATTACH;FMTTYPE=image/jpeg:https://elderplan.imgix.net/Music-1.jpg?fm=pjpg
END:VEVENT
BEGIN:VEVENT
DTSTART;TZID=America/New_York:20240711T150000
DTEND;TZID=America/New_York:20240711T160000
DTSTAMP:20260422T150933
CREATED:20240628T190356Z
LAST-MODIFIED:20240628T190356Z
UID:42917-1720710000-1720713600@www.elderplan.org
SUMMARY:Maritri Garrett Concert
DESCRIPTION:Maritri is a multi-instrumentalist\, singer\, and composer from Southern California. She lived in Midwood\, Brooklyn\, for twenty years and is classically trained. She also performs jazz and folk music. \nSimply click here to join.
URL:https://www.elderplan.org/event/maritri-garrett-concert-7-2-3/
ATTACH;FMTTYPE=image/jpeg:https://elderplan.imgix.net/Music-1.jpg?fm=pjpg
END:VEVENT
BEGIN:VEVENT
DTSTART;TZID=America/New_York:20240711T150000
DTEND;TZID=America/New_York:20240711T160000
DTSTAMP:20260422T150933
CREATED:20240628T190356Z
LAST-MODIFIED:20240628T190356Z
UID:41175-1720710000-1720713600@www.elderplan.org
SUMMARY:Maritri Garrett Concert
DESCRIPTION:Maritri is a multi-instrumentalist\, singer\, and composer from Southern California. She lived in Midwood\, Brooklyn\, for twenty years and is classically trained. She also performs jazz and folk music. \nSimply click here to join.
URL:https://www.elderplan.org/event/maritri-garrett-concert-7-2/
ATTACH;FMTTYPE=image/jpeg:https://elderplan.imgix.net/Music.jpg?fm=pjpg
END:VEVENT
BEGIN:VEVENT
DTSTART;TZID=America/New_York:20240711T150000
DTEND;TZID=America/New_York:20240711T160000
DTSTAMP:20260422T150933
CREATED:20240628T190356Z
LAST-MODIFIED:20240628T190356Z
UID:33497-1720710000-1720713600@www.elderplan.org
SUMMARY:Maritri Garrett Concert
DESCRIPTION:Maritri is a multi-instrumentalist\, singer\, and composer from Southern California. She lived in Midwood\, Brooklyn\, for twenty years and is classically trained. She also performs jazz and folk music. \nSimply click here to join.
URL:https://www.elderplan.org/event/maritri-garrett-concert-7-2-2/
ATTACH;FMTTYPE=image/jpeg:https://elderplan.imgix.net/Music-1.jpg?fm=pjpg
END:VEVENT
BEGIN:VEVENT
DTSTART;TZID=America/New_York:20240716T100000
DTEND;TZID=America/New_York:20240716T110000
DTSTAMP:20260422T150933
CREATED:20240628T150826Z
LAST-MODIFIED:20240628T150826Z
UID:24818-1721124000-1721127600@www.elderplan.org
SUMMARY:Cooking show with Shirley: Spicy Fish Shawarma & Toasted Cauliflower Tabbouleh
DESCRIPTION:Quick and easy-to-follow cooking demonstrations of delicious and healthy recipes. \nSimply click here to join.
URL:https://www.elderplan.org/event/cooking-show-with-shirley-spicy-fish-shawarma-toasted-cauliflower-tabbouleh/
ATTACH;FMTTYPE=image/jpeg:https://elderplan.imgix.net/2021/04/Cooking.jpg?fm=pjpg
END:VEVENT
BEGIN:VEVENT
DTSTART;TZID=America/New_York:20240716T100000
DTEND;TZID=America/New_York:20240716T110000
DTSTAMP:20260422T150933
CREATED:20240628T150826Z
LAST-MODIFIED:20240628T150826Z
UID:41945-1721124000-1721127600@www.elderplan.org
SUMMARY:Cooking show with Shirley: Spicy Fish Shawarma & Toasted Cauliflower Tabbouleh
DESCRIPTION:Quick and easy-to-follow cooking demonstrations of delicious and healthy recipes. \nSimply click here to join.
URL:https://www.elderplan.org/event/cooking-show-with-shirley-spicy-fish-shawarma-toasted-cauliflower-tabbouleh-3/
ATTACH;FMTTYPE=image/jpeg:https://elderplan.imgix.net/2021/04/Cooking.jpg?fm=pjpg
END:VEVENT
BEGIN:VEVENT
DTSTART;TZID=America/New_York:20240716T100000
DTEND;TZID=America/New_York:20240716T110000
DTSTAMP:20260422T150933
CREATED:20240628T150826Z
LAST-MODIFIED:20240628T150826Z
UID:42892-1721124000-1721127600@www.elderplan.org
SUMMARY:Cooking show with Shirley: Spicy Fish Shawarma & Toasted Cauliflower Tabbouleh
DESCRIPTION:Quick and easy-to-follow cooking demonstrations of delicious and healthy recipes. \nSimply click here to join.
URL:https://www.elderplan.org/event/cooking-show-with-shirley-spicy-fish-shawarma-toasted-cauliflower-tabbouleh-4/
ATTACH;FMTTYPE=image/jpeg:https://elderplan.imgix.net/2021/04/Cooking.jpg?fm=pjpg
END:VEVENT
BEGIN:VEVENT
DTSTART;TZID=America/New_York:20240716T100000
DTEND;TZID=America/New_York:20240716T110000
DTSTAMP:20260422T150933
CREATED:20240628T150826Z
LAST-MODIFIED:20240628T150826Z
UID:43288-1721124000-1721127600@www.elderplan.org
SUMMARY:Cooking show with Shirley: Spicy Fish Shawarma & Toasted Cauliflower Tabbouleh
DESCRIPTION:Quick and easy-to-follow cooking demonstrations of delicious and healthy recipes. \nSimply click here to join.
URL:https://www.elderplan.org/event/cooking-show-with-shirley-spicy-fish-shawarma-toasted-cauliflower-tabbouleh-5/
ATTACH;FMTTYPE=image/jpeg:https://elderplan.imgix.net/2021/04/Cooking.jpg?fm=pjpg
END:VEVENT
BEGIN:VEVENT
DTSTART;TZID=America/New_York:20240716T100000
DTEND;TZID=America/New_York:20240716T110000
DTSTAMP:20260422T150933
CREATED:20240628T190826Z
LAST-MODIFIED:20240628T190826Z
UID:43303-1721124000-1721127600@www.elderplan.org
SUMMARY:Cooking show with Shirley: Spicy Fish Shawarma & Toasted Cauliflower Tabbouleh
DESCRIPTION:Quick and easy-to-follow cooking demonstrations of delicious and healthy recipes. \nSimply click here to join.
URL:https://www.elderplan.org/event/cooking-show-with-shirley-spicy-fish-shawarma-toasted-cauliflower-tabbouleh-2-4/
ATTACH;FMTTYPE=image/jpeg:https://elderplan.imgix.net/Cooking-1.jpg?fm=pjpg
END:VEVENT
BEGIN:VEVENT
DTSTART;TZID=America/New_York:20240716T100000
DTEND;TZID=America/New_York:20240716T110000
DTSTAMP:20260422T150933
CREATED:20240628T190826Z
LAST-MODIFIED:20240628T190826Z
UID:42920-1721124000-1721127600@www.elderplan.org
SUMMARY:Cooking show with Shirley: Spicy Fish Shawarma & Toasted Cauliflower Tabbouleh
DESCRIPTION:Quick and easy-to-follow cooking demonstrations of delicious and healthy recipes. \nSimply click here to join.
URL:https://www.elderplan.org/event/cooking-show-with-shirley-spicy-fish-shawarma-toasted-cauliflower-tabbouleh-2-3/
ATTACH;FMTTYPE=image/jpeg:https://elderplan.imgix.net/Cooking-1.jpg?fm=pjpg
END:VEVENT
END:VCALENDAR