BEGIN:VCALENDAR
VERSION:2.0
PRODID:-//Elderplan - ECPv6.15.20//NONSGML v1.0//EN
CALSCALE:GREGORIAN
METHOD:PUBLISH
X-WR-CALNAME:Elderplan
X-ORIGINAL-URL:https://www.elderplan.org/zh
X-WR-CALDESC:Elderplan的活动
REFRESH-INTERVAL;VALUE=DURATION:PT1H
X-Robots-Tag:noindex
X-PUBLISHED-TTL:PT1H
BEGIN:VTIMEZONE
TZID:America/New_York
BEGIN:DAYLIGHT
TZOFFSETFROM:-0500
TZOFFSETTO:-0400
TZNAME:EDT
DTSTART:20210314T070000
END:DAYLIGHT
BEGIN:STANDARD
TZOFFSETFROM:-0400
TZOFFSETTO:-0500
TZNAME:EST
DTSTART:20211107T060000
END:STANDARD
BEGIN:DAYLIGHT
TZOFFSETFROM:-0500
TZOFFSETTO:-0400
TZNAME:EDT
DTSTART:20220313T070000
END:DAYLIGHT
BEGIN:STANDARD
TZOFFSETFROM:-0400
TZOFFSETTO:-0500
TZNAME:EST
DTSTART:20221106T060000
END:STANDARD
BEGIN:DAYLIGHT
TZOFFSETFROM:-0500
TZOFFSETTO:-0400
TZNAME:EDT
DTSTART:20230312T070000
END:DAYLIGHT
BEGIN:STANDARD
TZOFFSETFROM:-0400
TZOFFSETTO:-0500
TZNAME:EST
DTSTART:20231105T060000
END:STANDARD
BEGIN:DAYLIGHT
TZOFFSETFROM:-0500
TZOFFSETTO:-0400
TZNAME:EDT
DTSTART:20240310T070000
END:DAYLIGHT
BEGIN:STANDARD
TZOFFSETFROM:-0400
TZOFFSETTO:-0500
TZNAME:EST
DTSTART:20241103T060000
END:STANDARD
END:VTIMEZONE
BEGIN:VEVENT
DTSTART;TZID=America/New_York:20221227T100000
DTEND;TZID=America/New_York:20221227T103000
DTSTAMP:20260423T013337
CREATED:20221118T014505Z
LAST-MODIFIED:20221118T014505Z
UID:16744-1672135200-1672137000@www.elderplan.org
SUMMARY:Zumba Exercise Class
DESCRIPTION:Dancing to Latin-inspired songs and beats. An exercise class that’s meant to feel like a dance party. \nSimply click on the link below to join. \nhttps://teams.microsoft.com/l/meetup-join/19%3ameeting_MDczMGVmYzYtNWI3Mi00ZTFmLWExNDYtMzUxMDhmNjlhZDI5%40thread.v2/0?context=%7b%22Tid%22%3a%2200e7ba7e-2434-4488-94c9-9fcda612f634%22%2c%22Oid%22%3a%224b2baded-5af2-495e-a7ba-e23c64d64169%22%7d
URL:https://www.elderplan.org/zh/event/zumba-exercise-class-6/
ATTACH;FMTTYPE=image/jpeg:https://elderplan.imgix.net/2021/04/Exercise-2.jpg?fm=pjpg
END:VEVENT
BEGIN:VEVENT
DTSTART;TZID=America/New_York:20221227T100000
DTEND;TZID=America/New_York:20221227T103000
DTSTAMP:20260423T013337
CREATED:20221118T014505Z
LAST-MODIFIED:20221118T014505Z
UID:41476-1672135200-1672137000@www.elderplan.org
SUMMARY:Zumba Exercise Class
DESCRIPTION:Dancing to Latin-inspired songs and beats. An exercise class that’s meant to feel like a dance party. \nSimply click on the link below to join. \nhttps://teams.microsoft.com/l/meetup-join/19%3ameeting_MDczMGVmYzYtNWI3Mi00ZTFmLWExNDYtMzUxMDhmNjlhZDI5%40thread.v2/0?context=%7b%22Tid%22%3a%2200e7ba7e-2434-4488-94c9-9fcda612f634%22%2c%22Oid%22%3a%224b2baded-5af2-495e-a7ba-e23c64d64169%22%7d
URL:https://www.elderplan.org/zh/event/zumba-exercise-class-6-3/
ATTACH;FMTTYPE=image/jpeg:https://elderplan.imgix.net/2021/04/Exercise-2.jpg?fm=pjpg
END:VEVENT
BEGIN:VEVENT
DTSTART;TZID=America/New_York:20221227T100000
DTEND;TZID=America/New_York:20221227T103000
DTSTAMP:20260423T013337
CREATED:20221118T014505Z
LAST-MODIFIED:20221118T014505Z
UID:42246-1672135200-1672137000@www.elderplan.org
SUMMARY:Zumba Exercise Class
DESCRIPTION:Dancing to Latin-inspired songs and beats. An exercise class that’s meant to feel like a dance party. \nSimply click on the link below to join. \nhttps://teams.microsoft.com/l/meetup-join/19%3ameeting_MDczMGVmYzYtNWI3Mi00ZTFmLWExNDYtMzUxMDhmNjlhZDI5%40thread.v2/0?context=%7b%22Tid%22%3a%2200e7ba7e-2434-4488-94c9-9fcda612f634%22%2c%22Oid%22%3a%224b2baded-5af2-495e-a7ba-e23c64d64169%22%7d
URL:https://www.elderplan.org/zh/event/zumba-exercise-class-6-4/
ATTACH;FMTTYPE=image/jpeg:https://elderplan.imgix.net/2021/04/Exercise-2.jpg?fm=pjpg
END:VEVENT
BEGIN:VEVENT
DTSTART;TZID=America/New_York:20221227T100000
DTEND;TZID=America/New_York:20221227T103000
DTSTAMP:20260423T013337
CREATED:20221118T014505Z
LAST-MODIFIED:20221118T014505Z
UID:42704-1672135200-1672137000@www.elderplan.org
SUMMARY:Zumba Exercise Class
DESCRIPTION:Dancing to Latin-inspired songs and beats. An exercise class that’s meant to feel like a dance party. \nSimply click on the link below to join. \nhttps://teams.microsoft.com/l/meetup-join/19%3ameeting_MDczMGVmYzYtNWI3Mi00ZTFmLWExNDYtMzUxMDhmNjlhZDI5%40thread.v2/0?context=%7b%22Tid%22%3a%2200e7ba7e-2434-4488-94c9-9fcda612f634%22%2c%22Oid%22%3a%224b2baded-5af2-495e-a7ba-e23c64d64169%22%7d
URL:https://www.elderplan.org/zh/event/zumba-exercise-class-6-5/
ATTACH;FMTTYPE=image/jpeg:https://elderplan.imgix.net/2021/04/Exercise-2.jpg?fm=pjpg
END:VEVENT
BEGIN:VEVENT
DTSTART;TZID=America/New_York:20221227T100000
DTEND;TZID=America/New_York:20221227T103000
DTSTAMP:20260423T013337
CREATED:20221118T064505Z
LAST-MODIFIED:20221118T064505Z
UID:41005-1672135200-1672137000@www.elderplan.org
SUMMARY:Zumba Exercise Class
DESCRIPTION:Dancing to Latin-inspired songs and beats. An exercise class that’s meant to feel like a dance party. \nSimply click on the link below to join. \nhttps://teams.microsoft.com/l/meetup-join/19%3ameeting_MDczMGVmYzYtNWI3Mi00ZTFmLWExNDYtMzUxMDhmNjlhZDI5%40thread.v2/0?context=%7b%22Tid%22%3a%2200e7ba7e-2434-4488-94c9-9fcda612f634%22%2c%22Oid%22%3a%224b2baded-5af2-495e-a7ba-e23c64d64169%22%7d
URL:https://www.elderplan.org/zh/event/zumba-exercise-class-6-2/
ATTACH;FMTTYPE=image/jpeg:https://elderplan.imgix.net/Exercise-2.jpg?fm=pjpg
END:VEVENT
BEGIN:VEVENT
DTSTART;TZID=America/New_York:20221227T100000
DTEND;TZID=America/New_York:20221227T103000
DTSTAMP:20260423T013337
CREATED:20221118T064505Z
LAST-MODIFIED:20221118T064505Z
UID:33329-1672135200-1672137000@www.elderplan.org
SUMMARY:Zumba Exercise Class
DESCRIPTION:Dancing to Latin-inspired songs and beats. An exercise class that’s meant to feel like a dance party. \nSimply click on the link below to join. \nhttps://teams.microsoft.com/l/meetup-join/19%3ameeting_MDczMGVmYzYtNWI3Mi00ZTFmLWExNDYtMzUxMDhmNjlhZDI5%40thread.v2/0?context=%7b%22Tid%22%3a%2200e7ba7e-2434-4488-94c9-9fcda612f634%22%2c%22Oid%22%3a%224b2baded-5af2-495e-a7ba-e23c64d64169%22%7d
URL:https://www.elderplan.org/zh/event/zumba-exercise-class-6-2-2/
ATTACH;FMTTYPE=image/jpeg:https://elderplan.imgix.net/Exercise-2-1.jpg?fm=pjpg
END:VEVENT
BEGIN:VEVENT
DTSTART;TZID=America/New_York:20221227T100000
DTEND;TZID=America/New_York:20221227T103000
DTSTAMP:20260423T013337
CREATED:20221118T064505Z
LAST-MODIFIED:20221118T064505Z
UID:42301-1672135200-1672137000@www.elderplan.org
SUMMARY:Zumba Exercise Class
DESCRIPTION:Dancing to Latin-inspired songs and beats. An exercise class that’s meant to feel like a dance party. \nSimply click on the link below to join. \nhttps://teams.microsoft.com/l/meetup-join/19%3ameeting_MDczMGVmYzYtNWI3Mi00ZTFmLWExNDYtMzUxMDhmNjlhZDI5%40thread.v2/0?context=%7b%22Tid%22%3a%2200e7ba7e-2434-4488-94c9-9fcda612f634%22%2c%22Oid%22%3a%224b2baded-5af2-495e-a7ba-e23c64d64169%22%7d
URL:https://www.elderplan.org/zh/event/zumba-exercise-class-6-2-3/
ATTACH;FMTTYPE=image/jpeg:https://elderplan.imgix.net/Exercise-2-1.jpg?fm=pjpg
END:VEVENT
BEGIN:VEVENT
DTSTART;TZID=America/New_York:20221227T100000
DTEND;TZID=America/New_York:20221227T103000
DTSTAMP:20260423T013337
CREATED:20221118T064505Z
LAST-MODIFIED:20221118T064505Z
UID:42753-1672135200-1672137000@www.elderplan.org
SUMMARY:Zumba Exercise Class
DESCRIPTION:Dancing to Latin-inspired songs and beats. An exercise class that’s meant to feel like a dance party. \nSimply click on the link below to join. \nhttps://teams.microsoft.com/l/meetup-join/19%3ameeting_MDczMGVmYzYtNWI3Mi00ZTFmLWExNDYtMzUxMDhmNjlhZDI5%40thread.v2/0?context=%7b%22Tid%22%3a%2200e7ba7e-2434-4488-94c9-9fcda612f634%22%2c%22Oid%22%3a%224b2baded-5af2-495e-a7ba-e23c64d64169%22%7d
URL:https://www.elderplan.org/zh/event/zumba-exercise-class-6-2-4/
ATTACH;FMTTYPE=image/jpeg:https://elderplan.imgix.net/Exercise-2-1.jpg?fm=pjpg
END:VEVENT
BEGIN:VEVENT
DTSTART;TZID=America/New_York:20221229T150000
DTEND;TZID=America/New_York:20221229T153000
DTSTAMP:20260423T013337
CREATED:20221118T015212Z
LAST-MODIFIED:20221118T015212Z
UID:16746-1672326000-1672327800@www.elderplan.org
SUMMARY:Jazz Class
DESCRIPTION:Learn dance terminology\, watch clips from select musicals and learn the choreography from the musical in a modified way. \nSimply click on the link below to join. \nhttps://teams.microsoft.com/l/meetup-join/19%3ameeting_NDJhMjEwZTUtZGVlMi00Yjc0LWFjMzAtNjA2N2Y5YmIzZmVl%40thread.v2/0?context=%7b%22Tid%22%3a%2200e7ba7e-2434-4488-94c9-9fcda612f634%22%2c%22Oid%22%3a%22d021045c-b595-41cf-9515-616dcdae3e3d%22%7d
URL:https://www.elderplan.org/zh/event/jazz-class-10/
ATTACH;FMTTYPE=image/jpeg:https://elderplan.imgix.net/2021/04/Exercise-2.jpg?fm=pjpg
END:VEVENT
BEGIN:VEVENT
DTSTART;TZID=America/New_York:20221229T150000
DTEND;TZID=America/New_York:20221229T153000
DTSTAMP:20260423T013337
CREATED:20221118T015212Z
LAST-MODIFIED:20221118T015212Z
UID:41477-1672326000-1672327800@www.elderplan.org
SUMMARY:Jazz Class
DESCRIPTION:Learn dance terminology\, watch clips from select musicals and learn the choreography from the musical in a modified way. \nSimply click on the link below to join. \nhttps://teams.microsoft.com/l/meetup-join/19%3ameeting_NDJhMjEwZTUtZGVlMi00Yjc0LWFjMzAtNjA2N2Y5YmIzZmVl%40thread.v2/0?context=%7b%22Tid%22%3a%2200e7ba7e-2434-4488-94c9-9fcda612f634%22%2c%22Oid%22%3a%22d021045c-b595-41cf-9515-616dcdae3e3d%22%7d
URL:https://www.elderplan.org/zh/event/jazz-class-10-3/
ATTACH;FMTTYPE=image/jpeg:https://elderplan.imgix.net/2021/04/Exercise-2.jpg?fm=pjpg
END:VEVENT
BEGIN:VEVENT
DTSTART;TZID=America/New_York:20221229T150000
DTEND;TZID=America/New_York:20221229T153000
DTSTAMP:20260423T013337
CREATED:20221118T015212Z
LAST-MODIFIED:20221118T015212Z
UID:42248-1672326000-1672327800@www.elderplan.org
SUMMARY:Jazz Class
DESCRIPTION:Learn dance terminology\, watch clips from select musicals and learn the choreography from the musical in a modified way. \nSimply click on the link below to join. \nhttps://teams.microsoft.com/l/meetup-join/19%3ameeting_NDJhMjEwZTUtZGVlMi00Yjc0LWFjMzAtNjA2N2Y5YmIzZmVl%40thread.v2/0?context=%7b%22Tid%22%3a%2200e7ba7e-2434-4488-94c9-9fcda612f634%22%2c%22Oid%22%3a%22d021045c-b595-41cf-9515-616dcdae3e3d%22%7d
URL:https://www.elderplan.org/zh/event/jazz-class-10-4/
ATTACH;FMTTYPE=image/jpeg:https://elderplan.imgix.net/2021/04/Exercise-2.jpg?fm=pjpg
END:VEVENT
BEGIN:VEVENT
DTSTART;TZID=America/New_York:20221229T150000
DTEND;TZID=America/New_York:20221229T153000
DTSTAMP:20260423T013337
CREATED:20221118T015212Z
LAST-MODIFIED:20221118T015212Z
UID:42706-1672326000-1672327800@www.elderplan.org
SUMMARY:Jazz Class
DESCRIPTION:Learn dance terminology\, watch clips from select musicals and learn the choreography from the musical in a modified way. \nSimply click on the link below to join. \nhttps://teams.microsoft.com/l/meetup-join/19%3ameeting_NDJhMjEwZTUtZGVlMi00Yjc0LWFjMzAtNjA2N2Y5YmIzZmVl%40thread.v2/0?context=%7b%22Tid%22%3a%2200e7ba7e-2434-4488-94c9-9fcda612f634%22%2c%22Oid%22%3a%22d021045c-b595-41cf-9515-616dcdae3e3d%22%7d
URL:https://www.elderplan.org/zh/event/jazz-class-10-5/
ATTACH;FMTTYPE=image/jpeg:https://elderplan.imgix.net/2021/04/Exercise-2.jpg?fm=pjpg
END:VEVENT
BEGIN:VEVENT
DTSTART;TZID=America/New_York:20221229T150000
DTEND;TZID=America/New_York:20221229T153000
DTSTAMP:20260423T013337
CREATED:20221118T065212Z
LAST-MODIFIED:20221118T065212Z
UID:41006-1672326000-1672327800@www.elderplan.org
SUMMARY:Jazz Class
DESCRIPTION:Learn dance terminology\, watch clips from select musicals and learn the choreography from the musical in a modified way. \nSimply click on the link below to join. \nhttps://teams.microsoft.com/l/meetup-join/19%3ameeting_NDJhMjEwZTUtZGVlMi00Yjc0LWFjMzAtNjA2N2Y5YmIzZmVl%40thread.v2/0?context=%7b%22Tid%22%3a%2200e7ba7e-2434-4488-94c9-9fcda612f634%22%2c%22Oid%22%3a%22d021045c-b595-41cf-9515-616dcdae3e3d%22%7d
URL:https://www.elderplan.org/zh/event/jazz-class-10-2/
ATTACH;FMTTYPE=image/jpeg:https://elderplan.imgix.net/Exercise-2.jpg?fm=pjpg
END:VEVENT
BEGIN:VEVENT
DTSTART;TZID=America/New_York:20221229T150000
DTEND;TZID=America/New_York:20221229T153000
DTSTAMP:20260423T013337
CREATED:20221118T065212Z
LAST-MODIFIED:20221118T065212Z
UID:33330-1672326000-1672327800@www.elderplan.org
SUMMARY:Jazz Class
DESCRIPTION:Learn dance terminology\, watch clips from select musicals and learn the choreography from the musical in a modified way. \nSimply click on the link below to join. \nhttps://teams.microsoft.com/l/meetup-join/19%3ameeting_NDJhMjEwZTUtZGVlMi00Yjc0LWFjMzAtNjA2N2Y5YmIzZmVl%40thread.v2/0?context=%7b%22Tid%22%3a%2200e7ba7e-2434-4488-94c9-9fcda612f634%22%2c%22Oid%22%3a%22d021045c-b595-41cf-9515-616dcdae3e3d%22%7d
URL:https://www.elderplan.org/zh/event/jazz-class-10-2-2/
ATTACH;FMTTYPE=image/jpeg:https://elderplan.imgix.net/Exercise-2-1.jpg?fm=pjpg
END:VEVENT
BEGIN:VEVENT
DTSTART;TZID=America/New_York:20221229T150000
DTEND;TZID=America/New_York:20221229T153000
DTSTAMP:20260423T013337
CREATED:20221118T065212Z
LAST-MODIFIED:20221118T065212Z
UID:42303-1672326000-1672327800@www.elderplan.org
SUMMARY:Jazz Class
DESCRIPTION:Learn dance terminology\, watch clips from select musicals and learn the choreography from the musical in a modified way. \nSimply click on the link below to join. \nhttps://teams.microsoft.com/l/meetup-join/19%3ameeting_NDJhMjEwZTUtZGVlMi00Yjc0LWFjMzAtNjA2N2Y5YmIzZmVl%40thread.v2/0?context=%7b%22Tid%22%3a%2200e7ba7e-2434-4488-94c9-9fcda612f634%22%2c%22Oid%22%3a%22d021045c-b595-41cf-9515-616dcdae3e3d%22%7d
URL:https://www.elderplan.org/zh/event/jazz-class-10-2-3/
ATTACH;FMTTYPE=image/jpeg:https://elderplan.imgix.net/Exercise-2-1.jpg?fm=pjpg
END:VEVENT
BEGIN:VEVENT
DTSTART;TZID=America/New_York:20221229T150000
DTEND;TZID=America/New_York:20221229T153000
DTSTAMP:20260423T013337
CREATED:20221118T065212Z
LAST-MODIFIED:20221118T065212Z
UID:42755-1672326000-1672327800@www.elderplan.org
SUMMARY:Jazz Class
DESCRIPTION:Learn dance terminology\, watch clips from select musicals and learn the choreography from the musical in a modified way. \nSimply click on the link below to join. \nhttps://teams.microsoft.com/l/meetup-join/19%3ameeting_NDJhMjEwZTUtZGVlMi00Yjc0LWFjMzAtNjA2N2Y5YmIzZmVl%40thread.v2/0?context=%7b%22Tid%22%3a%2200e7ba7e-2434-4488-94c9-9fcda612f634%22%2c%22Oid%22%3a%22d021045c-b595-41cf-9515-616dcdae3e3d%22%7d
URL:https://www.elderplan.org/zh/event/jazz-class-10-2-4/
ATTACH;FMTTYPE=image/jpeg:https://elderplan.imgix.net/Exercise-2-1.jpg?fm=pjpg
END:VEVENT
BEGIN:VEVENT
DTSTART;TZID=America/New_York:20230103T100000
DTEND;TZID=America/New_York:20230103T110000
DTSTAMP:20260423T013337
CREATED:20221118T015914Z
LAST-MODIFIED:20221212T151048Z
UID:16747-1672740000-1672743600@www.elderplan.org
SUMMARY:2023 New Year Virtual Trivia
DESCRIPTION:We all know New Year’s history is rich with its age-old traditions. Let’s kick off our 2023 with fun new year trivia games. \nhttps://teams.microsoft.com/l/meetup-join/19%3ameeting_MTI0ZmQzMTAtYjY5Yi00ODc2LTlkMTEtN2NlMDY1YmU0M2My%40thread.v2/0?context=%7b%22Tid%22%3a%2200e7ba7e-2434-4488-94c9-9fcda612f634%22%2c%22Oid%22%3a%224b2baded-5af2-495e-a7ba-e23c64d64169%22%7d
URL:https://www.elderplan.org/zh/event/virtual-games-2/
ATTACH;FMTTYPE=image/jpeg:https://elderplan.imgix.net/2022/01/VirtualGames.jpg?fm=pjpg
END:VEVENT
BEGIN:VEVENT
DTSTART;TZID=America/New_York:20230103T100000
DTEND;TZID=America/New_York:20230103T110000
DTSTAMP:20260423T013337
CREATED:20221118T015914Z
LAST-MODIFIED:20221118T015914Z
UID:41478-1672740000-1672743600@www.elderplan.org
SUMMARY:2023 New Year Virtual Trivia
DESCRIPTION:We all know New Year’s history is rich with its age-old traditions. Let’s kick off our 2023 with fun new year trivia games. \nhttps://teams.microsoft.com/l/meetup-join/19%3ameeting_MTI0ZmQzMTAtYjY5Yi00ODc2LTlkMTEtN2NlMDY1YmU0M2My%40thread.v2/0?context=%7b%22Tid%22%3a%2200e7ba7e-2434-4488-94c9-9fcda612f634%22%2c%22Oid%22%3a%224b2baded-5af2-495e-a7ba-e23c64d64169%22%7d
URL:https://www.elderplan.org/zh/event/virtual-games-2-3/
ATTACH;FMTTYPE=image/jpeg:https://elderplan.imgix.net/2022/01/VirtualGames.jpg?fm=pjpg
END:VEVENT
BEGIN:VEVENT
DTSTART;TZID=America/New_York:20230103T100000
DTEND;TZID=America/New_York:20230103T110000
DTSTAMP:20260423T013337
CREATED:20221118T015914Z
LAST-MODIFIED:20221118T015914Z
UID:42250-1672740000-1672743600@www.elderplan.org
SUMMARY:2023 New Year Virtual Trivia
DESCRIPTION:We all know New Year’s history is rich with its age-old traditions. Let’s kick off our 2023 with fun new year trivia games. \nhttps://teams.microsoft.com/l/meetup-join/19%3ameeting_MTI0ZmQzMTAtYjY5Yi00ODc2LTlkMTEtN2NlMDY1YmU0M2My%40thread.v2/0?context=%7b%22Tid%22%3a%2200e7ba7e-2434-4488-94c9-9fcda612f634%22%2c%22Oid%22%3a%224b2baded-5af2-495e-a7ba-e23c64d64169%22%7d
URL:https://www.elderplan.org/zh/event/virtual-games-2-4/
ATTACH;FMTTYPE=image/jpeg:https://elderplan.imgix.net/2022/01/VirtualGames.jpg?fm=pjpg
END:VEVENT
BEGIN:VEVENT
DTSTART;TZID=America/New_York:20230103T100000
DTEND;TZID=America/New_York:20230103T110000
DTSTAMP:20260423T013337
CREATED:20221118T015914Z
LAST-MODIFIED:20221118T015914Z
UID:42708-1672740000-1672743600@www.elderplan.org
SUMMARY:2023 New Year Virtual Trivia
DESCRIPTION:We all know New Year’s history is rich with its age-old traditions. Let’s kick off our 2023 with fun new year trivia games. \nhttps://teams.microsoft.com/l/meetup-join/19%3ameeting_MTI0ZmQzMTAtYjY5Yi00ODc2LTlkMTEtN2NlMDY1YmU0M2My%40thread.v2/0?context=%7b%22Tid%22%3a%2200e7ba7e-2434-4488-94c9-9fcda612f634%22%2c%22Oid%22%3a%224b2baded-5af2-495e-a7ba-e23c64d64169%22%7d
URL:https://www.elderplan.org/zh/event/virtual-games-2-5/
ATTACH;FMTTYPE=image/jpeg:https://elderplan.imgix.net/2022/01/VirtualGames.jpg?fm=pjpg
END:VEVENT
BEGIN:VEVENT
DTSTART;TZID=America/New_York:20230103T100000
DTEND;TZID=America/New_York:20230103T110000
DTSTAMP:20260423T013337
CREATED:20221118T065914Z
LAST-MODIFIED:20221118T065914Z
UID:41007-1672740000-1672743600@www.elderplan.org
SUMMARY:2023 New Year Virtual Trivia
DESCRIPTION:We all know New Year’s history is rich with its age-old traditions. Let’s kick off our 2023 with fun new year trivia games. \nhttps://teams.microsoft.com/l/meetup-join/19%3ameeting_MTI0ZmQzMTAtYjY5Yi00ODc2LTlkMTEtN2NlMDY1YmU0M2My%40thread.v2/0?context=%7b%22Tid%22%3a%2200e7ba7e-2434-4488-94c9-9fcda612f634%22%2c%22Oid%22%3a%224b2baded-5af2-495e-a7ba-e23c64d64169%22%7d
URL:https://www.elderplan.org/zh/event/virtual-games-2-2/
ATTACH;FMTTYPE=image/jpeg:https://elderplan.imgix.net/VirtualGames.jpg?fm=pjpg
END:VEVENT
BEGIN:VEVENT
DTSTART;TZID=America/New_York:20230103T100000
DTEND;TZID=America/New_York:20230103T110000
DTSTAMP:20260423T013337
CREATED:20221118T065914Z
LAST-MODIFIED:20221118T065914Z
UID:33331-1672740000-1672743600@www.elderplan.org
SUMMARY:2023 New Year Virtual Trivia
DESCRIPTION:We all know New Year’s history is rich with its age-old traditions. Let’s kick off our 2023 with fun new year trivia games. \nhttps://teams.microsoft.com/l/meetup-join/19%3ameeting_MTI0ZmQzMTAtYjY5Yi00ODc2LTlkMTEtN2NlMDY1YmU0M2My%40thread.v2/0?context=%7b%22Tid%22%3a%2200e7ba7e-2434-4488-94c9-9fcda612f634%22%2c%22Oid%22%3a%224b2baded-5af2-495e-a7ba-e23c64d64169%22%7d
URL:https://www.elderplan.org/zh/event/virtual-games-2-2-2/
ATTACH;FMTTYPE=image/jpeg:https://elderplan.imgix.net/VirtualGames-1.jpg?fm=pjpg
END:VEVENT
BEGIN:VEVENT
DTSTART;TZID=America/New_York:20230103T100000
DTEND;TZID=America/New_York:20230103T110000
DTSTAMP:20260423T013337
CREATED:20221118T065914Z
LAST-MODIFIED:20221118T065914Z
UID:42305-1672740000-1672743600@www.elderplan.org
SUMMARY:2023 New Year Virtual Trivia
DESCRIPTION:We all know New Year’s history is rich with its age-old traditions. Let’s kick off our 2023 with fun new year trivia games. \nhttps://teams.microsoft.com/l/meetup-join/19%3ameeting_MTI0ZmQzMTAtYjY5Yi00ODc2LTlkMTEtN2NlMDY1YmU0M2My%40thread.v2/0?context=%7b%22Tid%22%3a%2200e7ba7e-2434-4488-94c9-9fcda612f634%22%2c%22Oid%22%3a%224b2baded-5af2-495e-a7ba-e23c64d64169%22%7d
URL:https://www.elderplan.org/zh/event/virtual-games-2-2-3/
ATTACH;FMTTYPE=image/jpeg:https://elderplan.imgix.net/VirtualGames-1.jpg?fm=pjpg
END:VEVENT
BEGIN:VEVENT
DTSTART;TZID=America/New_York:20230103T100000
DTEND;TZID=America/New_York:20230103T110000
DTSTAMP:20260423T013337
CREATED:20221118T065914Z
LAST-MODIFIED:20221118T065914Z
UID:42757-1672740000-1672743600@www.elderplan.org
SUMMARY:2023 New Year Virtual Trivia
DESCRIPTION:We all know New Year’s history is rich with its age-old traditions. Let’s kick off our 2023 with fun new year trivia games. \nhttps://teams.microsoft.com/l/meetup-join/19%3ameeting_MTI0ZmQzMTAtYjY5Yi00ODc2LTlkMTEtN2NlMDY1YmU0M2My%40thread.v2/0?context=%7b%22Tid%22%3a%2200e7ba7e-2434-4488-94c9-9fcda612f634%22%2c%22Oid%22%3a%224b2baded-5af2-495e-a7ba-e23c64d64169%22%7d
URL:https://www.elderplan.org/zh/event/virtual-games-2-2-4/
ATTACH;FMTTYPE=image/jpeg:https://elderplan.imgix.net/VirtualGames-1.jpg?fm=pjpg
END:VEVENT
BEGIN:VEVENT
DTSTART;TZID=America/New_York:20230105T100000
DTEND;TZID=America/New_York:20230105T170000
DTSTAMP:20260423T013337
CREATED:20221118T020519Z
LAST-MODIFIED:20221212T150905Z
UID:16748-1672912800-1672938000@www.elderplan.org
SUMMARY:New Year's cooking show Recipe: Couscus Winter Salad
DESCRIPTION:Quick and easy-to-follow cooking demonstrations of delicious and healthy recipes. \nSimply click on the link below to join. \nhttps://teams.microsoft.com/l/meetup-join/19%3ameeting_MzJjNDllNGYtNDA3NS00NzA0LWEzNWUtYzYwM2ZlNDBmNWZi%40thread.v2/0?context=%7b%22Tid%22%3a%2200e7ba7e-2434-4488-94c9-9fcda612f634%22%2c%22Oid%22%3a%22d021045c-b595-41cf-9515-616dcdae3e3d%22%7d1/12:
URL:https://www.elderplan.org/zh/event/new-years-cooking-show-recipe-couscus-winter-salad/
ATTACH;FMTTYPE=image/jpeg:https://elderplan.imgix.net/2021/04/Cooking.jpg?fm=pjpg
END:VEVENT
BEGIN:VEVENT
DTSTART;TZID=America/New_York:20230105T100000
DTEND;TZID=America/New_York:20230105T170000
DTSTAMP:20260423T013337
CREATED:20221118T020519Z
LAST-MODIFIED:20221118T020519Z
UID:41479-1672912800-1672938000@www.elderplan.org
SUMMARY:New Year's cooking show Recipe: Couscus Winter Salad
DESCRIPTION:Quick and easy-to-follow cooking demonstrations of delicious and healthy recipes. \nSimply click on the link below to join. \nhttps://teams.microsoft.com/l/meetup-join/19%3ameeting_MzJjNDllNGYtNDA3NS00NzA0LWEzNWUtYzYwM2ZlNDBmNWZi%40thread.v2/0?context=%7b%22Tid%22%3a%2200e7ba7e-2434-4488-94c9-9fcda612f634%22%2c%22Oid%22%3a%22d021045c-b595-41cf-9515-616dcdae3e3d%22%7d1/12:
URL:https://www.elderplan.org/zh/event/new-years-cooking-show-recipe-couscus-winter-salad-3/
ATTACH;FMTTYPE=image/jpeg:https://elderplan.imgix.net/2021/04/Cooking.jpg?fm=pjpg
END:VEVENT
BEGIN:VEVENT
DTSTART;TZID=America/New_York:20230105T100000
DTEND;TZID=America/New_York:20230105T170000
DTSTAMP:20260423T013337
CREATED:20221118T020519Z
LAST-MODIFIED:20221118T020519Z
UID:42253-1672912800-1672938000@www.elderplan.org
SUMMARY:New Year's cooking show Recipe: Couscus Winter Salad
DESCRIPTION:Quick and easy-to-follow cooking demonstrations of delicious and healthy recipes. \nSimply click on the link below to join. \nhttps://teams.microsoft.com/l/meetup-join/19%3ameeting_MzJjNDllNGYtNDA3NS00NzA0LWEzNWUtYzYwM2ZlNDBmNWZi%40thread.v2/0?context=%7b%22Tid%22%3a%2200e7ba7e-2434-4488-94c9-9fcda612f634%22%2c%22Oid%22%3a%22d021045c-b595-41cf-9515-616dcdae3e3d%22%7d1/12:
URL:https://www.elderplan.org/zh/event/new-years-cooking-show-recipe-couscus-winter-salad-4/
ATTACH;FMTTYPE=image/jpeg:https://elderplan.imgix.net/2021/04/Cooking.jpg?fm=pjpg
END:VEVENT
BEGIN:VEVENT
DTSTART;TZID=America/New_York:20230105T100000
DTEND;TZID=America/New_York:20230105T170000
DTSTAMP:20260423T013337
CREATED:20221118T020519Z
LAST-MODIFIED:20221118T020519Z
UID:42710-1672912800-1672938000@www.elderplan.org
SUMMARY:New Year's cooking show Recipe: Couscus Winter Salad
DESCRIPTION:Quick and easy-to-follow cooking demonstrations of delicious and healthy recipes. \nSimply click on the link below to join. \nhttps://teams.microsoft.com/l/meetup-join/19%3ameeting_MzJjNDllNGYtNDA3NS00NzA0LWEzNWUtYzYwM2ZlNDBmNWZi%40thread.v2/0?context=%7b%22Tid%22%3a%2200e7ba7e-2434-4488-94c9-9fcda612f634%22%2c%22Oid%22%3a%22d021045c-b595-41cf-9515-616dcdae3e3d%22%7d1/12:
URL:https://www.elderplan.org/zh/event/new-years-cooking-show-recipe-couscus-winter-salad-5/
ATTACH;FMTTYPE=image/jpeg:https://elderplan.imgix.net/2021/04/Cooking.jpg?fm=pjpg
END:VEVENT
BEGIN:VEVENT
DTSTART;TZID=America/New_York:20230105T100000
DTEND;TZID=America/New_York:20230105T170000
DTSTAMP:20260423T013337
CREATED:20221118T070519Z
LAST-MODIFIED:20221118T070519Z
UID:41008-1672912800-1672938000@www.elderplan.org
SUMMARY:New Year's cooking show Recipe: Couscus Winter Salad
DESCRIPTION:Quick and easy-to-follow cooking demonstrations of delicious and healthy recipes. \nSimply click on the link below to join. \nhttps://teams.microsoft.com/l/meetup-join/19%3ameeting_MzJjNDllNGYtNDA3NS00NzA0LWEzNWUtYzYwM2ZlNDBmNWZi%40thread.v2/0?context=%7b%22Tid%22%3a%2200e7ba7e-2434-4488-94c9-9fcda612f634%22%2c%22Oid%22%3a%22d021045c-b595-41cf-9515-616dcdae3e3d%22%7d1/12:
URL:https://www.elderplan.org/zh/event/new-years-cooking-show-recipe-couscus-winter-salad-2/
ATTACH;FMTTYPE=image/jpeg:https://elderplan.imgix.net/Cooking.jpg?fm=pjpg
END:VEVENT
BEGIN:VEVENT
DTSTART;TZID=America/New_York:20230105T100000
DTEND;TZID=America/New_York:20230105T170000
DTSTAMP:20260423T013337
CREATED:20221118T070519Z
LAST-MODIFIED:20221118T070519Z
UID:33332-1672912800-1672938000@www.elderplan.org
SUMMARY:New Year's cooking show Recipe: Couscus Winter Salad
DESCRIPTION:Quick and easy-to-follow cooking demonstrations of delicious and healthy recipes. \nSimply click on the link below to join. \nhttps://teams.microsoft.com/l/meetup-join/19%3ameeting_MzJjNDllNGYtNDA3NS00NzA0LWEzNWUtYzYwM2ZlNDBmNWZi%40thread.v2/0?context=%7b%22Tid%22%3a%2200e7ba7e-2434-4488-94c9-9fcda612f634%22%2c%22Oid%22%3a%22d021045c-b595-41cf-9515-616dcdae3e3d%22%7d1/12:
URL:https://www.elderplan.org/zh/event/new-years-cooking-show-recipe-couscus-winter-salad-2-2/
ATTACH;FMTTYPE=image/jpeg:https://elderplan.imgix.net/Cooking-1.jpg?fm=pjpg
END:VEVENT
END:VCALENDAR